BEGIN:VCALENDAR
VERSION:2.0
PRODID:-//ChamberMaster//Event Calendar 2.0//EN
METHOD:PUBLISH
X-PUBLISHED-TTL:P3D
REFRESH-INTERVAL:P3D
CALSCALE:GREGORIAN
BEGIN:VEVENT
DTSTART:20240425T213000Z
DTEND:20240425T230000Z
X-MICROSOFT-CDO-ALLDAYEVENT:FALSE
SUMMARY:Grand Opening of Wake Tech East
DESCRIPTION:You're invited to the grand opening of Wake Tech East   Wake Tech's newest location in Wendell! Join us on April 25th at 5:30 pm for music\, food trucks\, tours and fun!\n\nWake Tech East offers a chance to earn a college degree close to home in some of the most high-tech facilities around! Information technology\, engineering\, aviation\, EMS\, public safety and more   it's all being offered at Wake Tech East\, located on Rolesville Road off I-87 in Wendell.\n\nCLICK HERE for more information.
X-ALT-DESC;FMTTYPE=text/html:<div style="white-space-collapse:preserve\;overflow-wrap:break-word\;font-family:Segoe UI Historic\, Segoe UI\, Helvetica\, Arial\, sans-serif\;color:rgb(5\, 5\, 5)\;font-size:15px\;">\n<div dir="auto" style="font-family:inherit\;">You&rsquo\;re invited to the grand opening of Wake Tech East &ndash\; Wake Tech&rsquo\;s newest location in Wendell! Join us on April 25th at 5:30 pm for music\, food trucks\, tours and fun!<br />\nWake Tech East offers a chance to earn a college degree close to home in some of the most high-tech facilities around! Information technology\, engineering\, aviation\, EMS\, public safety and more &ndash\; it&rsquo\;s all being offered at Wake Tech East\, located on Rolesville Road off I-87 in Wendell.<br />\n<a href="https://www.waketech.edu/about-wake-tech/campuses-centers/eastern-wake?fbclid=IwZXh0bgNhZW0CMTAAAR23KkS3nHtiaEC1wlpDxbp6I_G7Qc0j_tgYgIj6JwDEyMxXAcZ9U03mJbE_aem_ATIch54JQZ_lVWCSTp6fZsbvoZfArGR7rgKcaonhzP6I31JMkMmFCUPgIfz8ItHTKbWXLt61HThM-QXujk1SQx72">CLICK HERE</a> for more information.</div>\n</div>\n
LOCATION:
UID:e.1168.7876
SEQUENCE:3
DTSTAMP:20260421T200341Z
URL:https://business.zebulonchamber.org/events/details/grand-opening-of-wake-tech-east-7876
END:VEVENT

END:VCALENDAR
