BEGIN:VCALENDAR
VERSION:2.0
PRODID:-//ChamberMaster//Event Calendar 2.0//EN
METHOD:PUBLISH
X-PUBLISHED-TTL:P3D
REFRESH-INTERVAL:P3D
CALSCALE:GREGORIAN
BEGIN:VEVENT
DTSTART:20251202T180000Z
DTEND:20251202T190000Z
X-MICROSOFT-CDO-ALLDAYEVENT:FALSE
SUMMARY:Grand Opening & Ribbon Cutting: The Greenhouse with Revive Her Ministries
DESCRIPTION:Grand Opening & Ribbon Cutting: The Greenhouse with Revive Her Ministries\n\n  Tuesday\, December 2\, 2025\n\n  1:00 PM\n\n  5600 Lake Wendell Rd.\, Zebulon\n\n\n   Celebrate with Us!\n\nThe community is invited to join Revive Her Ministries for the official ribbon cutting of The Greenhouse\, a transformative new program serving women in our region.\n\n\n  About The Greenhouse\n\nThe Greenhouse is a residential program at Revive Her Ministries designed for women transitioning out of incarceration or rehabilitation.\n\nWith nearly 3\,000 women returning from prison or treatment every year\, the need is clear. The Greenhouse exists to come alongside these women\, helping them become rooted\, restored\, and ready to thrive by providing stability\, community\, and growth opportunities.\n\n\n  Discover the Creative Expressions Workshop\n\nLearn more about the brand-new Creative Expressions Workshop an art program open to the community. Enjoy opportunities for hands-on creative projects and classes designed to bring people together in a supportive\, uplifting environment.\n\n\n  Join Us!\n\nHelp us welcome this powerful new resource to the Zebulon community. Bring a friend\, learn something new\, and be part of supporting women on their journey to restoration and renewal.
X-ALT-DESC;FMTTYPE=text/html:<p>&#11088\; <span style="font-size:18px\;"><span style="font-family:arial\;"><strong>Grand Opening &amp\; Ribbon Cutting: The Greenhouse with&nbsp\;Revive Her Ministries</strong></span></span></p>\n\n<p><span style="font-size:16px\;"><span style="font-family:arial\;">&#128197\; <strong>Tuesday\, December 2\, 2025</strong><br />\n&#9200\; <strong>1:00 PM</strong><br />\n&#128205\; <strong>5600 Lake Wendell Rd.\, Zebulon</strong></span></span></p>\n\n<hr />\n<h2><span style="font-size:16px\;"><span style="font-family:arial\;">&#9986\;&#65039\; <strong>Celebrate with Us!</strong></span></span></h2>\n\n<p><span style="font-size:16px\;"><span style="font-family:arial\;">The community is invited to join <strong>Revive Her Ministries</strong> for the official ribbon cutting of <strong>The Greenhouse</strong>\, a transformative new program serving women in our region.</span></span></p>\n\n<hr />\n<h2><span style="font-size:16px\;"><span style="font-family:arial\;">&#127807\; <strong>About The Greenhouse</strong></span></span></h2>\n\n<p><span style="font-size:16px\;"><span style="font-family:arial\;"><strong>The Greenhouse is a residential program at Revive Her Ministries designed for women transitioning out of incarceration or rehabilitation.</strong><br />\nWith nearly <strong>3\,000 women returning from prison or treatment every year</strong>\, the need is clear. The Greenhouse exists to come alongside these women\, helping them become <strong>rooted\, restored\, and ready to thrive</strong> by providing stability\, community\, and growth opportunities.</span></span></p>\n\n<hr />\n<h2><span style="font-size:16px\;"><span style="font-family:arial\;">&#127912\; <strong>Discover the Creative Expressions Workshop</strong></span></span></h2>\n\n<p><span style="font-size:16px\;"><span style="font-family:arial\;">Learn more about the brand-new <strong>Creative Expressions Workshop</strong>&mdash\;an art program open to the community. Enjoy opportunities for hands-on creative projects&nbsp\;and classes designed to bring people together in a supportive\, uplifting environment.</span></span></p>\n\n<hr />\n<h2><span style="font-size:16px\;"><span style="font-family:arial\;">&#128227\; <strong>Join Us!</strong></span></span></h2>\n\n<p><span style="font-size:16px\;"><span style="font-family:arial\;">Help us welcome this powerful new resource to the Zebulon community. Bring a friend\, learn something new\, and be part of supporting women on their journey to restoration and renewal.</span></span></p>\n
LOCATION:
UID:e.1168.9215
SEQUENCE:3
DTSTAMP:20260422T142550Z
URL:https://business.zebulonchamber.org/events/details/grand-opening-ribbon-cutting-the-greenhouse-with-revive-her-ministries-9215
END:VEVENT

END:VCALENDAR
