BEGIN:VCALENDAR
VERSION:2.0
PRODID:-//ChamberMaster//Event Calendar 2.0//EN
METHOD:PUBLISH
X-PUBLISHED-TTL:P3D
REFRESH-INTERVAL:P3D
CALSCALE:GREGORIAN
BEGIN:VEVENT
DTSTART:20251203T170000Z
DTEND:20251203T180000Z
X-MICROSOFT-CDO-ALLDAYEVENT:FALSE
SUMMARY:Grand Opening & Ribbon Cutting @ Universal Chevy Zebulon
DESCRIPTION:Grand Opening & Ribbon Cutting Universal Chevy Zebulon  \n\n\n\nThe name and family you've trusted in Wendell has officially expanded to Zebulon and you're invited to celebrate!\n\n  Wednesday\, December 3\, 2025\n\n  12:00 PM   1:00 PM\n\n  606 W Gannon Ave\, Zebulon\n\nJoin us for a high-energy grand opening as Universal Chevy brings its tradition of service\, community\, and trusted customer care to Zebulon.\n\n  What to Expect:\n\n\n	\n	  Prizes & fun surprises\n	\n	\n	  Food & refreshments\n	\n	\n	  Meet the team on this side of the river\n	\n\n\nBring your friends and family the entire community is invited to help us welcome Universal Chevy to their new home.
X-ALT-DESC;FMTTYPE=text/html:<p><span style="font-size:16px\;"><span style="font-family:arial\;">&#128663\;&#10024\; <strong><span style="font-size:18px\;">Grand Opening &amp\; Ribbon Cutting Universal Chevy Zebulon</span></strong></span></span><span style="color: rgb(51\, 51\, 51)\; font-family: arial\; font-size: 16px\; background-color: rgb(255\, 255\, 255)\;">&#10024\;&#128663\;</span><br />\n<br />\n<span style="font-family: arial\; font-size: 16px\;">The name and family you&rsquo\;ve trusted in Wendell has officially expanded to </span><strong style="font-family: arial\; font-size: 16px\;">Zebulon</strong><span style="font-family: arial\; font-size: 16px\;">&mdash\;and you&rsquo\;re invited to celebrate!</span></p>\n\n<p><span style="font-size:16px\;"><span style="font-family:arial\;">&#128197\; <strong>Wednesday\, December 3\, 2025</strong><br />\n&#9200\; <strong>12:00 PM &ndash\; 1:00 PM</strong><br />\n&#128205\; <strong>606 W Gannon Ave\, Zebulon</strong></span></span></p>\n\n<p><span style="font-size:16px\;"><span style="font-family:arial\;">Join us for a high-energy grand opening as Universal Chevy brings its tradition of service\, community\, and trusted customer care to Zebulon.</span></span></p>\n\n<h3><span style="font-size:16px\;"><span style="font-family:arial\;">&#127881\; <strong>What to Expect:</strong></span></span></h3>\n\n<ul>\n	<li>\n	<p><span style="font-size:16px\;"><span style="font-family:arial\;">&#127873\; <strong>Prizes </strong></span></span><strong style="color: rgb(51\, 51\, 51)\; font-family: arial\; font-size: 16px\; background-color: rgb(255\, 255\, 255)\;">&amp\;</strong><span style="font-size:16px\;"><span style="font-family:arial\;"><strong> fun surprises</strong></span></span></p>\n	</li>\n	<li>\n	<p><span style="font-size:16px\;"><span style="font-family:arial\;">&#127828\; <strong>Food &amp\; refreshments</strong></span></span></p>\n	</li>\n	<li>\n	<p><span style="font-size:16px\;"><span style="font-family:arial\;">&#129309\; <strong>Meet the team on this side of the river</strong></span></span></p>\n	</li>\n</ul>\n\n<p><span style="font-size:16px\;"><span style="font-family:arial\;">Bring your friends and family&mdash\;<strong>the entire community is invited</strong> to help us welcome Universal Chevy to their new home.</span></span></p>\n
LOCATION:
UID:e.1168.9216
SEQUENCE:3
DTSTAMP:20260422T142308Z
URL:https://business.zebulonchamber.org/events/details/grand-opening-ribbon-cutting-universal-chevy-zebulon-9216
END:VEVENT

END:VCALENDAR
