BEGIN:VCALENDAR
VERSION:2.0
PRODID:-//ChamberMaster//Event Calendar 2.0//EN
METHOD:PUBLISH
X-PUBLISHED-TTL:P3D
REFRESH-INTERVAL:P3D
CALSCALE:GREGORIAN
BEGIN:VEVENT
DTSTART:20221005T170000Z
DTEND:20221005T180000Z
X-MICROSOFT-CDO-ALLDAYEVENT:FALSE
SUMMARY:Grand Opening & Ribbon Cutting_Functional Fitness 360
DESCRIPTION:Come celebrate with us!\n\nFunctional Fitness 360 -- Zebulon's only Downtown gym specializing in personal training and fitness programs -- is hosting its official ribbon cutting and grand opening.
X-ALT-DESC;FMTTYPE=text/html:Come celebrate with us!<br />\nFunctional Fitness 360 -- Zebulon&#39\;s only Downtown gym specializing in personal training and fitness programs -- is hosting its official ribbon cutting and grand opening.
LOCATION:124 S Arendell Ave Zebulon\, NC
UID:e.1168.7125
SEQUENCE:3
DTSTAMP:20260424T082003Z
URL:https://business.zebulonchamber.org/events/details/grand-opening-ribbon-cutting_functional-fitness-360-7125
END:VEVENT

END:VCALENDAR
