BEGIN:VCALENDAR
VERSION:2.0
PRODID:-//ChamberMaster//Event Calendar 2.0//EN
METHOD:PUBLISH
X-PUBLISHED-TTL:P3D
REFRESH-INTERVAL:P3D
CALSCALE:GREGORIAN
BEGIN:VEVENT
DTSTART:20221028T220000Z
DTEND:20221029T010000Z
X-MICROSOFT-CDO-ALLDAYEVENT:FALSE
SUMMARY:Halloween Movie Night - Monsters University
DESCRIPTION:Halloween Movie Night-Featuring Monsters University\n\nFriday\, October 28\n\nDoors Open at 6:00 PM\, Movie Starts at 7:00 PM\n\nFREE\n\nZebulon Community Center\n\nJoin us for a family friendly Halloween movie night featuring Monsters University. Dress in your favorite costume and get FREE Popcorn. Bring your own comfy chair\, cozy blanket and takeout dinner of your choice to enjoy during the movie.
X-ALT-DESC;FMTTYPE=text/html:<span style="color:#000000"><span style="font-family:arial\; font-size:12px">Halloween Movie Night-Featuring Monsters University</span><br />\n<span style="font-family:arial\; font-size:12px">Friday\, October 28</span><br />\n<span style="font-family:arial\; font-size:12px">Doors Open at 6:00 PM\, Movie Starts at 7:00 PM</span><br />\n<span style="font-family:arial\; font-size:12px">FREE</span><br />\n<span style="font-family:arial\; font-size:12px">Zebulon Community Center</span><br />\n<span style="font-family:arial\; font-size:12px">Join us for a family friendly Halloween movie night featuring Monsters University. Dress in your favorite costume and get FREE Popcorn. Bring your own comfy chair\, cozy blanket and takeout dinner of your choice to enjoy during the movie.</span></span>
LOCATION:Zebulon Community Center
UID:e.1168.7141
SEQUENCE:3
DTSTAMP:20260424T082457Z
URL:https://business.zebulonchamber.org/events/details/halloween-movie-night-monsters-university-7141
END:VEVENT

END:VCALENDAR
