BEGIN:VCALENDAR
VERSION:2.0
PRODID:-//ChamberMaster//Event Calendar 2.0//EN
METHOD:PUBLISH
X-PUBLISHED-TTL:P3D
REFRESH-INTERVAL:P3D
CALSCALE:GREGORIAN
BEGIN:VEVENT
DTSTART:20221208T213000Z
DTEND:20221208T233000Z
X-MICROSOFT-CDO-ALLDAYEVENT:FALSE
SUMMARY:Holiday Business After Hours with Narron Merritt CPA
DESCRIPTION:Tis the Season for Giving Back!  Join us as we celebrate the season and take this opportunity to give back to our community. Join us for Business After Hours at Narron Merritt CPA.  We will be collecting non-perishable food items\, along with coats and blankets to donate to our local food pantries.
X-ALT-DESC;FMTTYPE=text/html:Tis the Season for Giving Back!&nbsp\; Join us as we celebrate the season and take this opportunity to give back to our community. Join us for Business After Hours at Narron Merritt CPA.&nbsp\; We will be collecting non-perishable food items\, along with coats and blankets to donate to our local food pantries.&nbsp\;&nbsp\;&nbsp\;&nbsp\;&nbsp\;&nbsp\;&nbsp\;&nbsp\;&nbsp\;
LOCATION:Narron Merritt CPA 1014 N Arendell Ave Suite B Zebulon\, NC 27597
UID:e.1168.7170
SEQUENCE:3
DTSTAMP:20260422T183753Z
URL:https://business.zebulonchamber.org/events/details/holiday-business-after-hours-with-narron-merritt-cpa-7170
END:VEVENT

END:VCALENDAR
