BEGIN:VCALENDAR
VERSION:2.0
PRODID:-//ChamberMaster//Event Calendar 2.0//EN
METHOD:PUBLISH
X-PUBLISHED-TTL:P3D
REFRESH-INTERVAL:P3D
CALSCALE:GREGORIAN
BEGIN:VEVENT
DTSTART:20250205T183000Z
DTEND:20250205T200000Z
X-MICROSOFT-CDO-ALLDAYEVENT:FALSE
SUMMARY:Impediments to Fair Housing Community Engagement Session
DESCRIPTION:Join the Conversation on Fair Housing in Wake County!  \n\n\n\nWake County is hosting Community Engagement Public Meetings to gather your input on housing opportunities and challenges in our region. Your voice will help shape housing goals for the next five years.\n\n\n\n  Eastern Region: Zebulon\, Wendell\, Knightdale\n\n  Wednesday\, February 5\, 2025\n\n  1:30 - 3:00 PM\n\n  Wake County Eastern Regional Center\, 1002 Dogwood Drive\, Zebulon\n\n  Arrive early for refreshments (while they last)!\n\n  In case of inclement weather\, the meeting will be held virtually via Zoom.\n\n\n\nPlease register using this link from Wake County: Wake County Analysis of Impediments to Fair Housing COMMUNITY MEETINGS
X-ALT-DESC;FMTTYPE=text/html:<span style="font-size:14px\;"><span style="font-family:arial\;"><strong style="color:rgb(51\, 51\, 51)\;font-family:sans-serif\, Arial\, Verdana\, Trebuchet MS\;font-size:13px\;">&#127969\;&nbsp\;</strong><strong>Join the Conversation on Fair Housing in Wake County! &#127969\;</strong><br />\n<br />\nWake County is hosting <strong>Community Engagement Public Meetings</strong> to gather your input on housing opportunities and challenges in our region. Your voice will help shape housing goals for the next five years.<br />\n<br />\n<strong>&#128205\; </strong>Eastern Region: Zebulon\, Wendell\, Knightdale<br />\n&#128467\; Wednesday\, February 5\, 2025<br />\n&#9200\; 1:30 - 3:00 PM<br />\n&#128205\; Wake County Eastern Regional Center\,&nbsp\;1002 Dogwood Drive\, Zebulon<br />\n&#9989\; Arrive early for refreshments (while they last)!<br />\n&#127783\; In case of inclement weather\, the meeting will be held virtually via Zoom.<br />\n<br />\nPlease register using this link from Wake County:&nbsp\;<a href="https://forms.office.com/pages/responsepage.aspx?id=NWjEpVLSWkajWb4kAxkDtafojZIDhvZPhKGuWjZILBFUOTRRR0pTRUtSVzVPWktIUjhMWUMzQko1QS4u&amp\;route=shorturl"><span style="color:#0000FF\;">Wake County Analysis of Impediments to Fair Housing COMMUNITY MEETINGS</span></a></span></span>
LOCATION:
UID:e.1168.8678
SEQUENCE:3
DTSTAMP:20260421T060049Z
URL:https://business.zebulonchamber.org/events/details/impediments-to-fair-housing-community-engagement-session-8678
END:VEVENT

END:VCALENDAR
