BEGIN:VCALENDAR
VERSION:2.0
PRODID:-//ChamberMaster//Event Calendar 2.0//EN
METHOD:PUBLISH
X-PUBLISHED-TTL:P3D
REFRESH-INTERVAL:P3D
CALSCALE:GREGORIAN
BEGIN:VEVENT
DTSTART:20250213T220000Z
DTEND:20250213T233000Z
X-MICROSOFT-CDO-ALLDAYEVENT:FALSE
SUMMARY:Joint Zebulon & Wendell Chamber Business After Hours Hosted at Tap It Social House
DESCRIPTION:Joint Zebulon & Wendell Chamber Business After Hours Hosted at Tap It Social House\n\n\n\nGet ready for an evening of connection\, fun\, and nostalgia at our Joint Zebulon & Wendell Chamber Business After Hours Hosted at Tap It Social House.\n\n\n\nStep into Tap It Social House's arcade wonderland\, where the fun never stops\, and adventure awaits around every corner. With over 40 games to choose from\, including classics and new favorites\, you'll be spoiled for choice as you relive childhood memories and create new ones! Don't miss the chance to try Duck Bowling   it's sure to bring out the competitive spirit and a lot of laughs.\n\n\n\nThis is more than a networking event   it's a time to decompress and enjoy quality moments with friends and colleagues\, new and old. Make connections\, celebrate community\, and have a memorable evening.\n\n\n\n  Light refreshments and beverages will be provided.\n\n  Bring your business cards and your game face!\n\n\n\n  Date: Thursday\, February 13\, 2025\n\n  Time: 5:00 PM   6:30 PM\n\n  Location: Tap It Social House\, 42 N Main St.\, Wendell\, NC\n\n\n\nThanks to each of our hosts for making this event possible -- Tap It Social House\, Big Blue Restoration\, and Advantage Insurance Advisors.
X-ALT-DESC;FMTTYPE=text/html:<span style="font-size:16px\;"><span style="font-family:arial\;"><strong>Joint Zebulon &amp\; Wendell Chamber Business After Hours Hosted at Tap It Social House</strong><br />\n<br />\nGet ready for an evening of connection\, fun\, and nostalgia at our </span></span><strong style="color: rgb(51\, 51\, 51)\; font-family: arial\; font-size: 16px\; background-color: rgb(255\, 255\, 255)\;">Joint Zebulon &amp\; Wendell Chamber Business After Hours Hosted at Tap It Social House.</strong><br />\n<br />\n<span style="font-size:16px\;"><span style="font-family:arial\;"><strong>Step into Tap It Social House&rsquo\;s arcade wonderland</strong>\, where the fun never stops\, and adventure awaits around every corner. With over 40 games to choose from\, including classics and new favorites\, you&rsquo\;ll be spoiled for choice as you relive childhood memories and create new ones! Don&rsquo\;t miss the chance to try <strong>Duck Bowling</strong> &ndash\; it&rsquo\;s sure to bring out the competitive spirit and a lot of laughs.<br />\n<br />\nThis is more than a networking event &ndash\; it&rsquo\;s a time to decompress and enjoy quality moments with friends and colleagues\, new and old. Make connections\, celebrate community\, and have a memorable evening.<br />\n<br />\n&#10024\; <strong>Light refreshments and beverages will be provided.</strong><br />\n&#10024\; <strong>Bring your business cards and your game face!</strong><br />\n<br />\n<span style="background-color:#ffffff\;"><span style="color:#333333\;">&#128197\;&nbsp\;</span></span><strong style="color:rgb(51\, 51\, 51)\;font-family:sans-serif\, Arial\, Verdana\, Trebuchet MS\;font-size:13px\;">Date:</strong><span style="background-color:#ffffff\;"><span style="color:#333333\;">&nbsp\;Thursday\, February 13\, 2025</span></span><br style="color:rgb(51\, 51\, 51)\;font-family:sans-serif\, Arial\, Verdana\, Trebuchet MS\;font-size:13px\;" />\n<span style="background-color:#ffffff\;"><span style="color:#333333\;">&#9200\;&nbsp\;</span></span><strong style="color:rgb(51\, 51\, 51)\;font-family:sans-serif\, Arial\, Verdana\, Trebuchet MS\;font-size:13px\;">Time:</strong><span style="background-color:#ffffff\;"><span style="color:#333333\;">&nbsp\;5:00 PM &ndash\; 6:30 PM</span></span><br style="color:rgb(51\, 51\, 51)\;font-family:sans-serif\, Arial\, Verdana\, Trebuchet MS\;font-size:13px\;" />\n<span style="background-color:#ffffff\;"><span style="color:#333333\;">&#128205\;&nbsp\;</span></span><strong style="color:rgb(51\, 51\, 51)\;font-family:sans-serif\, Arial\, Verdana\, Trebuchet MS\;font-size:13px\;">Location:</strong><span style="background-color:#ffffff\;"><span style="color:#333333\;">&nbsp\;Tap It Social House\, 42 N Main St.\, Wendell\, NC</span></span></span></span><br />\n<br />\n<span style="font-size:16px\;"><span style="font-family:arial\;"><strong>Thanks to each of our hosts for making this event possible -- Tap It Social House\, Big Blue Restoration\, and Advantage Insurance Advisors.</strong></span></span>
LOCATION:
UID:e.1168.8518
SEQUENCE:3
DTSTAMP:20260422T130451Z
URL:https://business.zebulonchamber.org/events/details/joint-zebulon-wendell-chamber-business-after-hours-hosted-at-tap-it-social-house-8518
END:VEVENT

END:VCALENDAR
