BEGIN:VCALENDAR
VERSION:2.0
PRODID:-//ChamberMaster//Event Calendar 2.0//EN
METHOD:PUBLISH
X-PUBLISHED-TTL:P3D
REFRESH-INTERVAL:P3D
CALSCALE:GREGORIAN
BEGIN:VEVENT
DTSTART:20250225T230000Z
DTEND:20250226T010000Z
X-MICROSOFT-CDO-ALLDAYEVENT:FALSE
SUMMARY:LaunchZebulon Graduation
DESCRIPTION:LaunchZebulon Graduation  \n\n\n\n  Tuesday\, February 25\, 2025 |   6:00 8:00 PM\n\n  Olde Raleigh Distillery\n\n\n\nThis special evening honors the hard work and dedication of Zebulon's first LaunchZebulon Cohort -- entrepreneurs who have successfully completed a ten-week course of study through Wake Tech\, equipping them with the tools to launch and grow their businesses.\nEvent Highlights:\n\n\n	Recognition of LaunchZebulon Graduates\n	Remarks from community leaders and program sponsors\n	Networking with entrepreneurs\, mentors\, and business leaders\n\n\n \n\nLaunchZebulon is a partnership among Wake Tech\, Town of Zebulon Economic Development\, and Zebulon Chamber of Commerce established to grow the economic base of our local community by supporting new businesspeople as they pursue their dreams.
X-ALT-DESC;FMTTYPE=text/html:<span style="font-size:16px\;"><span style="font-family:arial\;"><strong>&#127891\; LaunchZebulon Graduation &#127891\;</strong><br />\n<br />\n&#128197\; <strong>Tuesday\, February 25\, 2025</strong> | &#9200\; <strong>6:00&ndash\;8:00 PM</strong><br />\n&#128205\; <strong>Olde Raleigh Distillery</strong><br />\n<br />\nThis special evening honors the hard work and dedication of <strong>Zebulon&#39\;s first LaunchZebulon Cohort</strong><strong style="font-family: arial\; color: rgb(51\, 51\, 51)\; font-size: 13px\;"><strong>&nbsp\;</strong>--&nbsp\;</strong>entrepreneurs who have successfully completed a <strong style="font-family: arial\;">ten-week course of study</strong> through <strong style="font-family: arial\;">Wake Tech</strong>\, equipping them with the tools to launch and grow their businesses.</span></span>\n<h3><span style="font-size:16px\;"><span style="font-family:arial\;"><strong>Event Highlights:</strong></span></span></h3>\n\n<ul>\n	<li><span style="font-size:16px\;"><span style="font-family:arial\;">Recognition of <strong>LaunchZebulon Graduates</strong></span></span></li>\n	<li><span style="font-size:16px\;"><span style="font-family:arial\;">Remarks from community leaders and program sponsors</span></span></li>\n	<li><span style="font-size:16px\;"><span style="font-family:arial\;">Networking with entrepreneurs\, mentors\, and business leaders</span></span></li>\n</ul>\n\n<h3>&nbsp\;</h3>\n\n<div><em><span style="font-size:16px\;"><span style="font-family:arial\;"><strong>LaunchZebulon</strong>&nbsp\;is a partnership among&nbsp\;Wake Tech\, Town of Zebulon Economic Development\,&nbsp\;and&nbsp\;Zebulon Chamber of Commerce&nbsp\;established to grow the economic base of our local community by supporting new businesspeople as they pursue their dreams.</span></span></em></div>\n
LOCATION:Olde Raleigh Distillery
UID:e.1168.8680
SEQUENCE:3
DTSTAMP:20260422T125318Z
URL:https://business.zebulonchamber.org/events/details/launchzebulon-graduation-8680
END:VEVENT

END:VCALENDAR
