BEGIN:VCALENDAR
VERSION:2.0
PRODID:-//ChamberMaster//Event Calendar 2.0//EN
METHOD:PUBLISH
X-PUBLISHED-TTL:P3D
REFRESH-INTERVAL:P3D
CALSCALE:GREGORIAN
BEGIN:VEVENT
DTSTART:20230222T170000Z
DTEND:20230222T180000Z
X-MICROSOFT-CDO-ALLDAYEVENT:FALSE
SUMMARY:MAKORx Employee Healthcare Plan Informational Webinar
DESCRIPTION:Worker recruitment and retention is a hot topic among employers with the scarcity of individuals in the labor market. Zebulon Chamber has networked in our region to seek out resources for our businesses in the greater Zebulon area.\n\n \n\nMAKORx is a Triangle-based company that provides clear\, uncomplicated employee healthcare coverage as an alternative to traditional employee health insurance plans.\n\n \n\nSmall businesses in Zebulon have begun to explore and signup to offer this an an affordable employee benefit. You can learn more at an upcoming webinar hosted by Zebulon Chamber. Click the registration button to register for the webinar. A webinar link will be emailed to you in a reminder email before the meeting date.
X-ALT-DESC;FMTTYPE=text/html:<div style="color: rgb(26\, 26\, 26)\; font-family: Lato\, sans-serif\; font-size: 16px\; white-space: pre-wrap\;"><span style="font-size:16px\;"><span style="font-family:arial\;">Worker recruitment and retention is a hot topic among employers with the scarcity of individuals in the labor market. Zebulon Chamber has networked in our region to seek out resources for our businesses in the greater Zebulon area.</span></span></div>\n\n<div style="color: rgb(26\, 26\, 26)\; font-family: Lato\, sans-serif\; font-size: 16px\; white-space: pre-wrap\;">&nbsp\;</div>\n\n<div style="color: rgb(26\, 26\, 26)\; font-family: Lato\, sans-serif\; font-size: 16px\; white-space: pre-wrap\;"><span style="font-size:16px\;"><span style="font-family:arial\;">MAKORx is a Triangle-based company that provides clear\, uncomplicated employee healthcare coverage as an alternative to traditional employee health insurance plans.</span></span></div>\n\n<div style="color: rgb(26\, 26\, 26)\; font-family: Lato\, sans-serif\; font-size: 16px\; white-space: pre-wrap\;">&nbsp\;</div>\n\n<div style="color: rgb(26\, 26\, 26)\; font-family: Lato\, sans-serif\; font-size: 16px\; white-space: pre-wrap\;"><span style="font-size:16px\;"><span style="font-family:arial\;">Small businesses in Zebulon have begun to explore and signup to offer this an an affordable employee benefit. You can learn more at an upcoming webinar hosted by Zebulon Chamber. Click the registration button to register for the webinar. A webinar link will be emailed to you in a reminder email before the meeting date.</span></span></div>\n
LOCATION:
UID:e.1168.7544
SEQUENCE:3
DTSTAMP:20260422T152726Z
URL:https://business.zebulonchamber.org/events/details/makorx-employee-healthcare-plan-informational-webinar-7544
END:VEVENT

END:VCALENDAR
