BEGIN:VCALENDAR
VERSION:2.0
PRODID:-//ChamberMaster//Event Calendar 2.0//EN
METHOD:PUBLISH
X-PUBLISHED-TTL:P3D
REFRESH-INTERVAL:P3D
CALSCALE:GREGORIAN
BEGIN:VEVENT
DTSTART:20230517T160000Z
DTEND:20230517T170000Z
X-MICROSOFT-CDO-ALLDAYEVENT:FALSE
SUMMARY:MAKORx Lunch & Learn: Affordable Healthcare
DESCRIPTION:Are you an individual searching for affordable healthcare options? Or perhaps an employer looking for budget-friendly benefits for your employees?\n\n\n\nJoin Sarah Wheeler of MAKORx for a Lunch & Learn to discover affordable healthcare options available to you.\n \n\nWednesday\, May 17\n\n12:00 PM to 1:00 PM\n\n \n\nZebulon Chamber of Commerce\n\n815 N Arendell Ave\n\nZebulon\, NC\n\n \nLunch provided by MAKORx. Limited seating available. Preregistration required.
X-ALT-DESC;FMTTYPE=text/html:<div style="text-align: justify\;"><span style="font-size:14px\;"><span style="font-family:arial\;">Are you an individual searching for affordable healthcare options? Or perhaps an employer looking for budget-friendly benefits for your employees?<br />\n<br />\nJoin Sarah Wheeler of MAKORx for a Lunch &amp\; Learn to discover affordable healthcare options available to you.</span></span></div>\n&nbsp\;\n\n<div style="color: rgb(26\, 26\, 26)\; font-family: Lato\, sans-serif\; font-size: 16px\; white-space: pre-wrap\; text-align: center\;"><span style="font-size:14px\;"><span style="font-family:arial\;">Wednesday\, May 17</span></span></div>\n\n<div style="color: rgb(26\, 26\, 26)\; font-family: Lato\, sans-serif\; font-size: 16px\; white-space: pre-wrap\; text-align: center\;"><span style="font-size:14px\;"><span style="font-family:arial\;">12:00 PM to 1:00 PM</span></span></div>\n\n<div style="color: rgb(26\, 26\, 26)\; font-family: Lato\, sans-serif\; font-size: 16px\; white-space: pre-wrap\; text-align: center\;">&nbsp\;</div>\n\n<div style="color: rgb(26\, 26\, 26)\; font-family: Lato\, sans-serif\; font-size: 16px\; white-space: pre-wrap\; text-align: center\;"><span style="font-size:14px\;"><span style="font-family:arial\;">Zebulon Chamber of Commerce</span></span></div>\n\n<div style="color: rgb(26\, 26\, 26)\; font-family: Lato\, sans-serif\; font-size: 16px\; white-space: pre-wrap\; text-align: center\;"><span style="font-size:14px\;"><span style="font-family:arial\;">815 N Arendell Ave</span></span></div>\n\n<div style="color: rgb(26\, 26\, 26)\; font-family: Lato\, sans-serif\; font-size: 16px\; white-space: pre-wrap\; text-align: center\;"><span style="font-size:14px\;"><span style="font-family:arial\;">Zebulon\, NC</span></span></div>\n\n<div style="color: rgb(26\, 26\, 26)\; font-family: Lato\, sans-serif\; font-size: 16px\; white-space: pre-wrap\;">&nbsp\;</div>\n<span style="font-size:14px\;"><span style="font-family:arial\;">Lunch provided by MAKORx. Limited seating available. Preregistration required.</span></span><br />\n&nbsp\;
LOCATION:
UID:e.1168.7564
SEQUENCE:3
DTSTAMP:20260422T110451Z
URL:https://business.zebulonchamber.org/events/details/makorx-lunch-learn-affordable-healthcare-7564
END:VEVENT

END:VCALENDAR
