BEGIN:VCALENDAR
VERSION:2.0
PRODID:-//ChamberMaster//Event Calendar 2.0//EN
METHOD:PUBLISH
X-PUBLISHED-TTL:P3D
REFRESH-INTERVAL:P3D
CALSCALE:GREGORIAN
BEGIN:VEVENT
DTSTART:20250204T220000Z
DTEND:20250204T233000Z
X-MICROSOFT-CDO-ALLDAYEVENT:FALSE
SUMMARY:Mastering the Job Hunt: Resume Building and LinkedIn Hacks for Young Professionals
DESCRIPTION:Zebulon Chamber Young Professionals: Stand Out & Level Up\n\nMastering the Job Hunt: Resume Building and LinkedIn Hacks for Young Professionals\n\n \n\nAre you ready to take your professional game to the next level? Join us for an informative workshop designed to help you navigate the job-seeking process and brand yourself like a pro. Kaitlyn Sanderson\, an expert in talent acquisition and personal branding\, will guide you through invaluable insights and strategies\, including:\n\n \n\n  The hiring process from an employer's perspective\n\n  Tips to make your resume shine\n\n  LinkedIn hacks and tricks\n\n  Strategies to stand out from the crowd\n\n\n\nAbout the Presenter:\n\nKaitlyn Sanderson is a seasoned professional with over four years of experience at Wolfspeed\, where she has served as a Talent Acquisition Manager and Talent Management Specialist. Her expertise lies in helping individuals and organizations unlock their potential through strategic hiring and branding practices. Kaitlyn calls Wendell home and hails from NC State.\n\n\n\nEvent Time and Date\n\n  Date: Tuesday\, February 4\, 2025\n\n  Time: 5:00 PM to 6:30 PM\n\n  Location: Zebulon Chamber of Commerce\, 815 N Arendell Ave\, Zebulon\n\n\n\nDon't miss this opportunity to learn directly from a talent acquisition pro and level up your career journey. Whether you're actively seeking a new role\, preparing for the future\, or just curious about best practices in personal branding\, this session is for you!\n\n\n\nZebulon Chamber Young Professionals (ZCYP) is a program sponsored by Zebulon Chamber of Commerce that empowers and connects young professionals\, aged post-high school to 39\, in the Greater Zebulon area by fostering opportunities for professional growth\, leadership development\, and community impact. Through dynamic networking\, collaborative learning\, and meaningful service\, ZCYP aims to cultivate the future leaders of Zebulon's business community and inspire positive change within our region.
X-ALT-DESC;FMTTYPE=text/html:<div style="text-align: center\;"><span style="font-size:16px\;"><span style="font-family:arial\;"><strong>Zebulon Chamber Young Professionals: Stand Out &amp\; Level Up</strong><br />\n<em><strong>Mastering the Job Hunt: Resume Building and LinkedIn Hacks for Young Professionals</strong></em></span></span><br />\n&nbsp\;</div>\n\n<div><span style="font-size:16px\;"><span style="font-family:arial\;">Are you ready to take your professional game to the next level? Join us for an informative workshop designed to help you navigate the job-seeking process and brand yourself like a pro. Kaitlyn Sanderson\, an expert in talent acquisition and personal branding\, will guide you through invaluable insights and strategies\, including:</span></span><br />\n&nbsp\;</div>\n\n<div style="line-height: normal\;"><span style="font-size:16px\;"><span style="font-family:arial\;">&#128269\; <strong>The hiring process from an employer&rsquo\;s perspective</strong></span></span></div>\n\n<div style="line-height: normal\;"><span style="font-size:16px\;"><span style="font-family:arial\;">&#128196\; <strong>Tips to make your resume shine</strong></span></span></div>\n\n<div style="line-height: normal\;"><span style="font-size:16px\;"><span style="font-family:arial\;">&#128187\; <strong>LinkedIn hacks and tricks</strong></span></span></div>\n\n<div style="line-height: normal\;"><span style="font-size:16px\;"><span style="font-family:arial\;">&#127775\; <strong>Strategies to stand out from the crowd</strong></span></span></div>\n\n<div><br />\n<span style="font-size:16px\;"><span style="font-family:arial\;"><strong>About the Presenter:</strong><br />\nKaitlyn Sanderson is a seasoned professional with over four years of experience at Wolfspeed\, where she has served as a Talent Acquisition Manager and Talent Management Specialist. Her expertise lies in helping individuals and organizations unlock their potential through strategic hiring and branding practices. Kaitlyn calls Wendell home and hails from NC State.</span></span></div>\n\n<div><br />\n<span style="font-size:16px\;"><span style="font-family:arial\;"><strong>Event Time and Date</strong><br />\n<span style="background-color:#ffffff\;"><span style="color:#333333\;">&#128197\;&nbsp\;<strong>Date:</strong>&nbsp\;Tuesday\, February 4\, 2025</span></span><br style="color:rgb(51\, 51\, 51)\;font-family:sans-serif\, Arial\, Verdana\, Trebuchet MS\;font-size:13px\;" />\n<span style="background-color:#ffffff\;"><span style="color:#333333\;">&#9200\;&nbsp\;<strong>Time:</strong>&nbsp\;5:00 PM to 6:30 PM</span></span><br style="color:rgb(51\, 51\, 51)\;font-family:sans-serif\, Arial\, Verdana\, Trebuchet MS\;font-size:13px\;" />\n<span style="background-color:#ffffff\;"><span style="color:#333333\;">&#128205\;&nbsp\;<strong>Location:</strong>&nbsp\;Zebulon Chamber of Commerce\, 815 N Arendell Ave\, Zebulon</span></span><br />\n<br />\nDon&rsquo\;t miss this opportunity to learn directly from a talent acquisition pro and level up your career journey. Whether you&#39\;re actively seeking a new role\, preparing for the future\, or just curious about best practices in personal branding\, this session is for you!</span></span><br />\n<br />\n<em><span style="font-size:14px\;"><span style="font-family:arial\;">Zebulon Chamber Young Professionals (ZCYP) is a program sponsored by Zebulon Chamber of Commerce that empowers and connects young professionals\, aged post-high school to 39\, in the Greater Zebulon area by fostering opportunities for professional growth\, leadership development\, and community impact. Through dynamic networking\, collaborative learning\, and meaningful service\, ZCYP aims to cultivate the future leaders of Zebulon&#39\;s business community and inspire positive change within our region.</span></span></em><br />\n&nbsp\;</div>\n
LOCATION:
UID:e.1168.8670
SEQUENCE:3
DTSTAMP:20260422T125626Z
URL:https://business.zebulonchamber.org/events/details/mastering-the-job-hunt-resume-building-and-linkedin-hacks-for-young-professionals-8670
END:VEVENT

END:VCALENDAR
