BEGIN:VCALENDAR
VERSION:2.0
PRODID:-//ChamberMaster//Event Calendar 2.0//EN
METHOD:PUBLISH
X-PUBLISHED-TTL:P3D
REFRESH-INTERVAL:P3D
CALSCALE:GREGORIAN
BEGIN:VEVENT
DTSTART:20251209T213000Z
DTEND:20251209T230000Z
X-MICROSOFT-CDO-ALLDAYEVENT:FALSE
SUMMARY:Merry Meet Up on McIver – Chamber Christmas Party! Hosted by Narron CPA
DESCRIPTION:Merry Meet Up on McIver   Chamber Christmas Party!  \n\nHosted by Narron CPA\n\nZebulon Chamber members and guests are invited to join us for an afternoon of holiday cheer\, community connection\, and festive fun at our annual Zebulon Chamber Christmas Party! This year\, we're gathering at Narron CPA and across McIver at Zebulon Chamber for a merry celebration complete with seasonal surprises\, special guests\, and a toy drive supporting a local charity.\n\n\n\n  Wear Your Best (or Worst!) Ugly Christmas Sweater!\n\nLet's make the evening even merrier with a parade of festive\, funny\, and fabulously tacky holiday sweaters!\n\n \n\n  Date: Tuesday\, December 9\, 2025\n\n  Time: 4:30 PM   6:00 PM\n\n  Location: 815 N Arendell Ave\, Zebulon\, NC 27597\n\n(Narron CPA + Zebulon Chamber of Commerce)\n\n\n  Toy Drive for Local Charity\n\nHelp spread joy this season! Bring a new\, unwrapped toy to support families in need within our community.\n\n  Expand Your Network\n\nConnect with business leaders\, Chamber members\, and guests from across the region in a relaxed\, festive setting. This is a perfect opportunity to deepen relationships and celebrate the season with your business community.\n\n  Complimentary Refreshments\n\nEnjoy beverages and light hors d'oeuvres provided by our gracious hosts at Narron CPA.\n\n  Special Guests\n\nA few familiar holiday characters will be stopping by to spread cheer!\n\n  Outdoor Games\n\nEnjoy giant Connect Four\, Jenga\, and more to keep the holiday spirit lively.\n\n   Check-In & Door Prizes\n\nStop by the Chamber table for your name tag and a chance to win festive door prizes.\n\n\n  Parking Available At:\n\n\n	\n	United Community Bank\n	\n	\n	Axiom Dentistry\n	\n\n\n\n  Please RSVP\n\nHelp us prepare for a festive evening! Please RSVP using the registration button.\n\n\n\nWe can't wait to celebrate the season with you!\n\nBring a friend\, bring a toy\, and bring your holiday spirit   we'll handle the rest.
X-ALT-DESC;FMTTYPE=text/html:<p style="text-align: center\;"><span style="font-size:18px\;"><span style="font-family:arial\;"><strong>&#127876\; Merry Meet Up on McIver &ndash\; Chamber Christmas Party! &#127876\;</strong><br />\n<strong>Hosted by Narron CPA</strong></span></span></p>\n\n<p><span style="font-size:16px\;"><span style="font-family:arial\;">Zebulon Chamber members and guests are invited to join us for an afternoon of holiday cheer\, community connection\, and festive fun at our annual Zebulon Chamber Christmas Party! This year\, we&rsquo\;re gathering at Narron CPA and across McIver at Zebulon Chamber for a merry celebration complete with seasonal surprises\, special guests\, and a toy drive supporting a local charity.<br />\n<br />\n&#127881\; <strong data-end="444" data-start="390">Wear Your Best (or Worst!) Ugly Christmas Sweater!</strong><br data-end="447" data-start="444" />\nLet&rsquo\;s make the evening even merrier with a parade of festive\, funny\, and fabulously tacky holiday sweaters!</span></span><br />\n&nbsp\;</p>\n\n<p><span style="font-size:16px\;"><span style="font-family:arial\;"><strong>&#128197\; Date:</strong> Tuesday\, December 9\, 2025<br />\n<strong>&#9200\; Time:</strong> 4:30 PM &ndash\; 6:00 PM<br />\n<strong>&#128205\; Location:</strong> 815 N Arendell Ave\, Zebulon\, NC 27597<br />\n(Narron CPA + Zebulon Chamber of Commerce)</span></span></p>\n\n<hr />\n<h3><span style="font-size:16px\;"><span style="font-family:arial\;">&#127873\; <strong>Toy Drive for Local Charity</strong></span></span></h3>\n\n<p><span style="font-size:16px\;"><span style="font-family:arial\;">Help spread joy this season! Bring a new\, unwrapped toy to support families in need within our community.</span></span></p>\n\n<h3><span style="font-size:16px\;"><span style="font-family:arial\;">&#129309\; <strong>Expand Your Network</strong></span></span></h3>\n\n<p><span style="font-size:16px\;"><span style="font-family:arial\;">Connect with business leaders\, Chamber members\, and guests from across the region in a relaxed\, festive setting. This is a perfect opportunity to deepen relationships and celebrate the season with your business community.</span></span></p>\n\n<h3><span style="font-size:16px\;"><span style="font-family:arial\;">&#129346\; <strong>Complimentary Refreshments</strong></span></span></h3>\n\n<p><span style="font-size:16px\;"><span style="font-family:arial\;">Enjoy beverages and light hors d&#39\;oeuvres provided by our gracious hosts at <strong>Narron CPA</strong>.</span></span></p>\n\n<h3><span style="font-size:16px\;"><span style="font-family:arial\;">&#127877\; <strong>Special Guests</strong></span></span></h3>\n\n<p><span style="font-size:16px\;"><span style="font-family:arial\;">A few familiar holiday characters will be stopping by to spread cheer!</span></span></p>\n\n<h3><span style="font-size:16px\;"><span style="font-family:arial\;">&#127922\; <strong>Outdoor Games</strong></span></span></h3>\n\n<p><span style="font-size:16px\;"><span style="font-family:arial\;">Enjoy giant Connect Four\, Jenga\, and more to keep the holiday spirit lively.</span></span></p>\n\n<h3><span style="font-size:16px\;"><span style="font-family:arial\;">&#10004\;&#65039\; <strong>Check-In &amp\; Door Prizes</strong></span></span></h3>\n\n<p><span style="font-size:16px\;"><span style="font-family:arial\;">Stop by the Chamber table for your name tag and a chance to win festive door prizes.</span></span></p>\n\n<hr />\n<h3><span style="font-size:16px\;"><span style="font-family:arial\;">&#128663\; <strong>Parking Available At:</strong></span></span></h3>\n\n<ul>\n	<li>\n	<p><span style="font-size:16px\;"><span style="font-family:arial\;">United Community Bank</span></span></p>\n	</li>\n	<li>\n	<p><span style="font-size:16px\;"><span style="font-family:arial\;">Axiom Dentistry</span></span></p>\n	</li>\n</ul>\n\n<hr />\n<h3 data-end="1591" data-start="1568"><span style="font-size:16px\;"><span style="font-family:arial\;">&#9989\; <strong data-end="1589" data-start="1574">Please RSVP</strong></span></span></h3>\n\n<p data-end="1677" data-start="1592"><span style="font-size:16px\;"><span style="font-family:arial\;">Help us prepare for a festive evening! <strong data-end="1677" data-start="1631">Please RSVP using the registration button.</strong><br />\n<br />\nWe can&rsquo\;t wait to celebrate the season with you!<br />\nBring a friend\, bring a toy\, and bring your holiday spirit &mdash\; we&rsquo\;ll handle the rest.</span></span></p>\n\n<p>&nbsp\;</p>\n
LOCATION:
UID:e.1168.8528
SEQUENCE:3
DTSTAMP:20260422T142320Z
URL:https://business.zebulonchamber.org/events/details/merry-meet-up-on-mciver-chamber-christmas-party-hosted-by-narron-cpa-8528
END:VEVENT

END:VCALENDAR
