BEGIN:VCALENDAR
VERSION:2.0
PRODID:-//ChamberMaster//Event Calendar 2.0//EN
METHOD:PUBLISH
X-PUBLISHED-TTL:P3D
REFRESH-INTERVAL:P3D
CALSCALE:GREGORIAN
BEGIN:VEVENT
DTSTART:20220929T120000Z
DTEND:20220929T133000Z
X-MICROSOFT-CDO-ALLDAYEVENT:FALSE
SUMMARY:Money\, Market\, & Management: Chamber Chat Small Business Series
DESCRIPTION:Zebulon Chamber is proud to announce our latest series to support our growing Small Business Community: Chamber Chat Small Business Series sponsored by Benchmark Community Bank.\n\n\n\nJoin area small business owners and regional business experts for the kick-off to the Zebulon Chamber Chat Small Business Series. This session\, Byron Hicks\, Assistant Chancellor of NC State & State Director of the NC State Small Business Technology & Development Center\, will present an overview of Money\, Market\, and Management concerns for our small businesses and provide resources available through the SBTDC.\n\n\n\nThursday\, September 29\, 2022\n\n8:00 AM to 8:30 AM Networking\n\n8:30 AM to 9:30 AM Presentation & Discussion\n\n\n\nFree for Zebulon Chamber members.\n\n$15 for non-Chamber members.
X-ALT-DESC;FMTTYPE=text/html:Zebulon Chamber is proud to announce our latest series to support our growing Small Business Community: Chamber Chat Small Business Series sponsored by Benchmark Community Bank.<br />\n<br />\nJoin area small business owners and regional business experts for the kick-off to the Zebulon Chamber Chat Small Business Series. This session\, Byron Hicks\, Assistant Chancellor of NC State &amp\; State Director of the NC State Small Business Technology &amp\; Development Center\, will present an overview of Money\, Market\, and Management concerns for our small businesses and provide resources available through the SBTDC.<br />\n<br />\nThursday\, September 29\, 2022<br />\n8:00 AM to 8:30 AM Networking<br />\n8:30 AM to&nbsp\;9:30 AM Presentation &amp\; Discussion<br />\n<br />\nFree for Zebulon Chamber members.<br />\n$15 for non-Chamber members.
LOCATION:East Wake Collective 108 N Arendell Ave Zebulon\, NC
UID:e.1168.7124
SEQUENCE:3
DTSTAMP:20260424T095447Z
URL:https://business.zebulonchamber.org/events/details/money-market-management-chamber-chat-small-business-series-7124
END:VEVENT

END:VCALENDAR
