BEGIN:VCALENDAR
VERSION:2.0
PRODID:-//ChamberMaster//Event Calendar 2.0//EN
METHOD:PUBLISH
X-PUBLISHED-TTL:P3D
REFRESH-INTERVAL:P3D
CALSCALE:GREGORIAN
BEGIN:VEVENT
DTSTART:20221116T130000Z
DTEND:20221116T143000Z
X-MICROSOFT-CDO-ALLDAYEVENT:FALSE
SUMMARY:Money\, Market\, & Management: Small Business Series
DESCRIPTION:Zebulon Chamber is proud to announce our latest series to support our growing Small Business Community: Money\, Market\, & Management Small Business Series presented by Benchmark Community Bank.\n\n\n\nJoin Patrick Rodriguez\, Senior Area Manager of the Small Business Administration\, will lead a discussion on funding for small businesses. He will be joined by a panel of SBA-approved lenders to answer questions about funding programs.\n\n\n\nHosted by\n\nThe Rustic Phoenix\n\n100 E Vance St\n\nZebulon\, NC\n\n\n\nWednesday\, November 16\, 2022\n\n8:00 AM to 8:30 AM Networking\n\n8:30 AM to 9:30 AM Presentation & Discussion\n\n\n\nFee covered for Chamber members in your annual Chamber membership investment & by Benchmark Community Bank's generous sponsorship\n\n$15 for non-Chamber members
X-ALT-DESC;FMTTYPE=text/html:Zebulon Chamber is proud to announce our latest series to support our growing Small Business Community: Money\, Market\, &amp\; Management Small Business Series presented by Benchmark Community Bank.<br />\n<br />\nJoin Patrick Rodriguez\, Senior Area Manager of the Small Business Administration\, will lead a discussion on funding for small businesses. He will be joined by a panel of SBA-approved lenders to answer questions about funding programs.<br />\n<br />\nHosted by<br />\nThe Rustic Phoenix<br />\n100 E Vance St<br />\nZebulon\, NC<br />\n<br />\nWednesday\, November 16\, 2022<br />\n8:00 AM to 8:30 AM Networking<br />\n8:30 AM to&nbsp\;9:30 AM Presentation &amp\; Discussion<br />\n<br />\nFee covered for Chamber members in your annual Chamber membership investment &amp\; by Benchmark Community Bank&#39\;s generous sponsorship<br />\n$15 for non-Chamber members
LOCATION:The Rustic Phoenix 100 E Vance St Zebulon\, NC
UID:e.1168.7157
SEQUENCE:3
DTSTAMP:20260422T195218Z
URL:https://business.zebulonchamber.org/events/details/money-market-management-small-business-series-7157
END:VEVENT

END:VCALENDAR
