BEGIN:VCALENDAR
VERSION:2.0
PRODID:-//ChamberMaster//Event Calendar 2.0//EN
METHOD:PUBLISH
X-PUBLISHED-TTL:P3D
REFRESH-INTERVAL:P3D
CALSCALE:GREGORIAN
BEGIN:VEVENT
DTSTART:20250122T134500Z
DTEND:20250122T144500Z
X-MICROSOFT-CDO-ALLDAYEVENT:FALSE
SUMMARY:Navigating Wake County Business Property Taxes
DESCRIPTION:Navigating Wake County Business Property Taxes\n\n \nSimplify your business property tax process. Join us for this free seminar designed to empower business owners in Wake County! This seminar is a must-attend for business owners looking to navigate the complexities of business property taxes with confidence.\n\n\n\nFeatured Presenter: Chelsie J. Cornelius\, PPS\, AAS\n\nPersonal Property Appraisal Manager\n\nWake County Government\, Department of Tax Administration\n\n\n\nWhat we'll cover:\n\n   Learn the Basics: Understand why business personal property is taxed and what items are taxable.\n\n   Filing Made Easy: Master the process of filing your business personal property tax listing   even online!\n\n   Avoid Penalties: Know the deadlines and avoid costly penalties for late filings.\n\n   Tax Bills & Payments: Find out when your property taxes are due and how to handle billing issues.\n\n   New & Closing Businesses: Get essential insights for starting or closing a business.\n\n   Direct Access to Help: Have your questions answered during the presentation or receive one-on-one assistance immediately after!\n\n\n\n\n\n  Date: Wednesday\, January 22\, 2025\n\n  Time: 8:45 AM to 9:45 AM\n\n  Location: Zebulon Chamber\, 815 N Arendell Ave\, Zebulon\, NC\n\n\n\nAdmission is free\, but space is limited   don't miss out!
X-ALT-DESC;FMTTYPE=text/html:<div style="text-align: center\;"><span style="font-size:16px\;"><span style="font-family:arial\;"><span style="font-size:18px\;"><strong><span style="font-size:20px\;">Navigating Wake County Business Property Taxes</span><br />\n&nbsp\;</strong></span></span></span></div>\n<span style="font-size:16px\;"><span style="font-family:arial\;">Simplify your business property tax process. Join us for this free seminar designed to empower business owners in Wake County! This seminar is a must-attend for business owners looking to navigate the complexities of business property taxes with confidence.<br />\n<br />\n<strong><span style="background:white\;font-weight:normal\;"><span style="color:#333333\;">Featured Presenter:&nbsp\;Chelsie J. Cornelius\, PPS\, AAS</span></span></strong><br />\n<strong><span style="background:white\;font-weight:normal\;"><span style="color:#333333\;">Personal Property Appraisal Manager</span></span></strong><br />\n<strong><span style="background:white\;font-weight:normal\;"><span style="color:#333333\;">Wake County Government\, Department of Tax Administration</span></span></strong><br />\n<br />\nWhat we&#39\;ll cover:<br />\n&#10004\;&#65039\; <strong>Learn the Basics</strong><b>:</b>&nbsp\;Understand why business personal property is taxed and what items are taxable.<br />\n&#10004\;&#65039\; <strong>Filing Made Easy</strong>: Master the process of filing your business personal property tax listing &ndash\; even online!<br />\n&#10004\;&#65039\; <strong>Avoid Penalties</strong>: Know the deadlines and avoid costly penalties for late filings.<br />\n&#10004\;&#65039\; <strong>Tax Bills &amp\; Payments</strong>: Find out when your property taxes are due and how to handle billing issues.<br />\n&#10004\;&#65039\; <strong>New &amp\; Closing Businesses</strong>: Get essential insights for starting or closing a business.<br />\n&#10004\;&#65039\; <strong>Direct Access to Help</strong>: Have your questions answered during the presentation or receive one-on-one assistance immediately after!<br />\n<br />\n<br />\n&#128197\; Date: Wednesday\, January 22\, 2025<br />\n&#9200\; Time: 8:45 AM to 9:45 AM<br />\n&#128205\; Location: Zebulon Chamber\, 815 N Arendell Ave\, Zebulon\, NC<br />\n<br />\nAdmission is free\, but space is limited &ndash\; don&rsquo\;t miss out!</span></span><br />\n<br />\n&nbsp\;
LOCATION:
UID:e.1168.8669
SEQUENCE:3
DTSTAMP:20260422T111310Z
URL:https://business.zebulonchamber.org/events/details/navigating-wake-county-business-property-taxes-8669
END:VEVENT

END:VCALENDAR
