BEGIN:VCALENDAR
VERSION:2.0
PRODID:-//ChamberMaster//Event Calendar 2.0//EN
METHOD:PUBLISH
X-PUBLISHED-TTL:P3D
REFRESH-INTERVAL:P3D
CALSCALE:GREGORIAN
BEGIN:VEVENT
DTSTART:20241214T190000Z
DTEND:20241214T220000Z
X-MICROSOFT-CDO-ALLDAYEVENT:FALSE
SUMMARY:NC 501(c) 3 Hub Bingo Fundraiser
DESCRIPTION:On behalf of NC 501(c)3 Hub\, Inc.\, your support is requested for an exciting\, upcoming event that will directly benefit our mission to empower new and under-resourced nonprofits. We are dedicated to providing essential resources\, comprehensive education\, and strategic guidance to help these organizations grow and make a meaningful impact in their communities.\n\nWe are hosting a Bingo Fundraiser on December 14\, 2024\, to raise funds for this important cause. The proceeds from this event will help us continue our work to foster innovation and sustainability in the nonprofit sector\, ensuring that every organization we support has the tools and knowledge needed to thrive.\n\nWe are also seeking donations of items that can be used as prizes for our bingo winners.  Specifically\, we are looking for items that have a value of $20 or more.
X-ALT-DESC;FMTTYPE=text/html:<p><span style="font-size:14px\;"><span style="font-family:arial\;">On behalf of NC 501(c)3 Hub\, Inc.\, </span></span>your support is requested for an exciting\,&nbsp\;<span style="font-size:14px\;"><span style="font-family:arial\;">upcoming event that will directly benefit our mission to empower new and under-resourced nonprofits. We are dedicated to providing essential resources\, comprehensive education\, and strategic guidance to help these organizations grow and make a meaningful impact in their communities.</span></span></p>\n\n<p><span style="font-size:14px\;"><span style="font-family:arial\;">We are hosting a <strong>Bingo Fundraiser</strong> on December 14\, 2024\, to raise funds for this important cause. The proceeds from this event will help us continue our work to foster innovation and sustainability in the nonprofit sector\, ensuring that every organization we support has the tools and knowledge needed to thrive.</span></span></p>\n\n<div><span style="font-size:14px\;"><span style="font-family:arial\;">We are also seeking donations of items that can be used as prizes for our bingo winners.&nbsp\; Specifically\, we are looking for items that have a value of $20 or more.</span></span></div>\n
LOCATION:It will be held at the Piano Room\, 106 W Horton St\, Ste 2\, Zebulon NC 27597.
UID:e.1168.8516
SEQUENCE:3
DTSTAMP:20260422T100157Z
URL:https://business.zebulonchamber.org/events/details/nc-501-c-3-hub-bingo-fundraiser-8516
END:VEVENT

END:VCALENDAR
