BEGIN:VCALENDAR
VERSION:2.0
PRODID:-//ChamberMaster//Event Calendar 2.0//EN
METHOD:PUBLISH
X-PUBLISHED-TTL:P3D
REFRESH-INTERVAL:P3D
CALSCALE:GREGORIAN
BEGIN:VEVENT
DTSTART:20240224T010000Z
DTEND:20240224T023000Z
X-MICROSOFT-CDO-ALLDAYEVENT:FALSE
SUMMARY:New Chamber Member Breakfast
DESCRIPTION:Zebulon Chamber's New Member Breakfast\n\n\n\nDid you join the Zebulon Chamber in the past twelve months? If so\, we want to take the time to WELCOME YOU! and celebrate your partnership with the membership of the Zebulon Chamber. During this time\, you will have the opportunity to meet with fellow new Chamber members\, Chamber staff\, and gain an overview of what it means to join this growing community.\n\n\n\nDate: Friday\, February 23\, 2024\n\nTime: 8:00 AM to 9:30 AM\n\nLocation: Zebulon Chamber\, 815 N Arendell Ave\, Zebulon\n\n\n\nA special thanks to Benchmark Community Bank of Zebulon for sponsoring our breakfast.\n\n\n\nPlease RSVP using the registration link by Tuesday\, February 20\, 2024\, to secure your spot.
X-ALT-DESC;FMTTYPE=text/html:<strong style="font-family: arial\; font-size: 14px\;"><span style="font-size:18px\;">Zebulon Chamber&#39\;s New Member Breakfast</span></strong><br />\n<br />\n<font face="arial"><span style="font-size: 14px\;">Did you join the Zebulon Chamber in the past twelve months? If so\, we want to take the time to WELCOME YOU! and celebrate your partnership with the membership of the Zebulon Chamber.&nbsp\;During this time\, you will have the opportunity to meet with fellow new Chamber members\, Chamber staff\, and gain an overview of what it means to join this growing community.</span></font><br />\n<br />\n<font face="arial"><span style="font-size: 14px\;">Date: Friday\, February 23\, 2024</span></font><br />\n<font face="arial"><span style="font-size: 14px\;">Time: 8:00 AM to 9:30 AM</span></font><br />\n<font face="arial"><span style="font-size: 14px\;">Location: Zebulon Chamber\, 815 N Arendell Ave\, Zebulon</span></font><br />\n<br />\n<font face="arial"><span style="font-size: 14px\;">A special thanks to </span></font><a href="https://business.zebulonchamber.org/list/member/benchmark-community-bank-zebulon-2172" style="font-family: arial\; font-size: 14px\;">Benchmark Community Bank</a><font face="arial"><span style="font-size: 14px\;"> of Zebulon for sponsoring our breakfast.</span></font><br />\n<br />\n<font face="arial"><span style="font-size: 14px\;">Please RSVP using the registration link by Tuesday\, February 20\, 2024\,&nbsp\;to secure your spot.</span></font>
LOCATION:
UID:e.1168.7848
SEQUENCE:3
DTSTAMP:20260421T190850Z
URL:https://business.zebulonchamber.org/events/details/new-chamber-member-breakfast-7848
END:VEVENT

END:VCALENDAR
