BEGIN:VCALENDAR
VERSION:2.0
PRODID:-//ChamberMaster//Event Calendar 2.0//EN
METHOD:PUBLISH
X-PUBLISHED-TTL:P3D
REFRESH-INTERVAL:P3D
CALSCALE:GREGORIAN
BEGIN:VEVENT
DTSTART:20220503T120000Z
DTEND:20220503T210000Z
X-MICROSOFT-CDO-ALLDAYEVENT:FALSE
SUMMARY:Notary Public Class
DESCRIPTION:Become a Notary Public! \n\nThis course will give you an understanding of the requirements and expectations to practice as a notary public in North Carolina.  You will take an exam at the end of class and complete the application for becoming a notary public.  The Notary Public Manual is provided in the cost of the class. \n\n\n\nSpecial rates for Zebulon Chamber of Commerce members.\n\nLunch provided.\n\nIn Partnership with Wake Technical Community College
X-ALT-DESC;FMTTYPE=text/html:<p style="outline-color: rgb(40\, 139\, 170)\; margin: 0px 0px 10px\; padding: 0px\; line-height: 1.5em\; color: rgb(62\, 62\, 62)\; font-family: &quot\;Quattrocento Sans&quot\;\, sans-serif\; font-size: 16px\;">Become a Notary Public!&nbsp\;</p>\n\n<p style="outline-color: rgb(40\, 139\, 170)\; margin: 0px 0px 10px\; padding: 0px\; line-height: 1.5em\; color: rgb(62\, 62\, 62)\; font-family: &quot\;Quattrocento Sans&quot\;\, sans-serif\; font-size: 16px\;">This course will give you an understanding of the requirements and expectations to practice as a notary public in North Carolina.&nbsp\; You will take an exam at the end of class and complete the application for becoming a notary public.&nbsp\; The Notary Public Manual is provided in the cost of the class.&nbsp\;<br />\n<br />\nSpecial rates for Zebulon Chamber of Commerce members.<br />\nLunch provided.</p>\n\n<p style="outline-color: rgb(40\, 139\, 170)\; margin: 0px 0px 10px\; padding: 0px\; line-height: 1.5em\; color: rgb(62\, 62\, 62)\; font-family: &quot\;Quattrocento Sans&quot\;\, sans-serif\; font-size: 16px\;"><em style="outline-color: rgb(40\, 139\, 170)\; position: relative\;">In Partnership with Wake Technical Community College</em></p>\n
LOCATION:Eastern Wake Education Center (Wake Tech) Room 112 519 Industrial Dr. Zebulon
UID:e.1168.6894
SEQUENCE:3
DTSTAMP:20260420T163048Z
URL:https://business.zebulonchamber.org/events/details/notary-public-class-6894
END:VEVENT

END:VCALENDAR
