BEGIN:VCALENDAR
VERSION:2.0
PRODID:-//ChamberMaster//Event Calendar 2.0//EN
METHOD:PUBLISH
X-PUBLISHED-TTL:P3D
REFRESH-INTERVAL:P3D
CALSCALE:GREGORIAN
BEGIN:VEVENT
DTSTART:20230817T203000Z
DTEND:20230817T223000Z
X-MICROSOFT-CDO-ALLDAYEVENT:FALSE
SUMMARY:Occoneechee Council BSA_Discover Exploring Reception
DESCRIPTION:The Occoneechee Council of the Boy Scouts of America would like to invite you to join them to learn more about BSA's Co-Ed Exploring Programs. Learn how Exploring can benefit your organization and provide meaningful\, real-world career experiences for young people ages 10 to 20.\n\n\n\nThursday\, August 17\, 2023\n\n4:30 Reception\n\n5:15 Tour of Hendrick Center for Automotive Excellence\n\n\n\nRSVP to Reginal Johnson by August 11\, 2023\n\nregina.johnson@scouting.org\n\n984.489.0688
X-ALT-DESC;FMTTYPE=text/html:The Occoneechee Council of the Boy Scouts of America would like to invite you to join them to learn more about BSA&#39\;s Co-Ed Exploring Programs. Learn how Exploring can benefit your organization and provide meaningful\, real-world career experiences for young people ages 10 to 20.<br />\n<br />\nThursday\, August 17\, 2023<br />\n4:30 Reception<br />\n5:15 Tour of Hendrick Center for Automotive Excellence<br />\n<br />\nRSVP to Reginal Johnson by August 11\, 2023<br />\nregina.johnson@scouting.org<br />\n984.489.0688<br />\n&nbsp\;
LOCATION:Wake Tech Hendrick Center for Automotive Excellence
UID:e.1168.7569
SEQUENCE:3
DTSTAMP:20260422T064336Z
URL:https://business.zebulonchamber.org/events/details/occoneechee-council-bsa_discover-exploring-reception-7569
END:VEVENT

END:VCALENDAR
