BEGIN:VCALENDAR
VERSION:2.0
PRODID:-//ChamberMaster//Event Calendar 2.0//EN
METHOD:PUBLISH
X-PUBLISHED-TTL:P3D
REFRESH-INTERVAL:P3D
CALSCALE:GREGORIAN
BEGIN:VEVENT
DTSTART:20221102T130000Z
DTEND:20221102T140000Z
X-MICROSOFT-CDO-ALLDAYEVENT:FALSE
SUMMARY:Orientation_Partnering to Promote Zebulon's Tourist-Interfacing Businesses
DESCRIPTION:The Zebulon Chamber and Greater Raleigh Convention and Visitors Bureau (GRCVB) are partnering to promote Zebulon as a destination in the region. As a Zebulon Chamber member and tourist interfacing business owner\, you are invited to a presentation by GRCVB on the Chamber's and GRCVB partnership to build out online presence for your business on GRCVB's website   one of the premier online portals promoting tourism in the Triangle.\n\n \n\nAndrew Baker\, Marketing Manager for GRCVB & Visit Raleigh\, will be at the Zebulon Chamber Wednesday\, November 2 from 9:00 AM to 10:00 AM to give an overview of the GRVCB website and how to build and manage your business profile on the "Zebulon" page of the website. The organization is publicly funded\; there is NO CHARGE for accessing and using this tool to market your business and grow Zebulon's online presence in the region.\n\n \n\nChamber members' only event\n\nPlease RSVP via email so we can account for seating: director@zebulonchamber.org
X-ALT-DESC;FMTTYPE=text/html:<span style="font-size:14px\;"><span style="font-family:arial\;">The Zebulon Chamber and Greater Raleigh Convention and Visitors Bureau (GRCVB) are partnering to promote Zebulon as a destination in the region. As a Zebulon Chamber member and tourist interfacing business owner\, you are invited to a presentation by GRCVB on the Chamber&rsquo\;s and GRCVB partnership to build out online presence for your business on GRCVB&rsquo\;s website &ndash\; one of the premier online portals promoting tourism in the Triangle.<br />\n&nbsp\;<br />\nAndrew Baker\, Marketing Manager for GRCVB &amp\; Visit Raleigh\, will be at the Zebulon Chamber Wednesday\, November 2 from 9:00 AM to 10:00 AM to give an overview of the GRVCB website and how to build and manage your business profile on the &ldquo\;Zebulon&rdquo\; page of the website. The organization is publicly funded\; there is NO CHARGE for accessing and using this tool to market your business and grow Zebulon&rsquo\;s online presence in the region.<br />\n&nbsp\;<br />\nChamber members&#39\; only event<br />\nPlease RSVP via email so we can account for seating: <a href="mailto:director@zebulonchamber.org?subject=RSVP_GRCVB%20Orientation&amp\;body=I%20plan%20to%20attend%20the%20GRCVB%20Orientation.">director@zebulonchamber.org</a></span></span>
LOCATION:Zebulon Chamber 815 N Arendell Ave Zebulon\, NC
UID:e.1168.7143
SEQUENCE:3
DTSTAMP:20260422T194754Z
URL:https://business.zebulonchamber.org/events/details/orientation_partnering-to-promote-zebulon-s-tourist-interfacing-businesses-7143
END:VEVENT

END:VCALENDAR
