BEGIN:VCALENDAR
VERSION:2.0
PRODID:-//ChamberMaster//Event Calendar 2.0//EN
METHOD:PUBLISH
X-PUBLISHED-TTL:P3D
REFRESH-INTERVAL:P3D
CALSCALE:GREGORIAN
BEGIN:VEVENT
DTSTART:20230209T140000Z
DTEND:20230209T153000Z
X-MICROSOFT-CDO-ALLDAYEVENT:FALSE
SUMMARY:Past Chamber Board Chair Breakfast
DESCRIPTION:Past Chamber Board Chairs are invited to reconnect with old Zebulon Chamber colleagues and connect with new in celebration of Zebulon Chamber's 75th Anniversary. Breakfast will be served and hosted by current Board Chair Jennifer Williams and Executive Director John Saffold.
X-ALT-DESC;FMTTYPE=text/html:Past Chamber Board Chairs are invited to reconnect with old Zebulon Chamber colleagues and connect with new in celebration of Zebulon Chamber&#39\;s 75th Anniversary. Breakfast will be served and hosted by current Board Chair Jennifer Williams and Executive Director John Saffold.
LOCATION:
UID:e.1168.7543
SEQUENCE:3
DTSTAMP:20260422T152507Z
URL:https://business.zebulonchamber.org/events/details/past-chamber-board-chair-breakfast-7543
END:VEVENT

END:VCALENDAR
