BEGIN:VCALENDAR
VERSION:2.0
PRODID:-//ChamberMaster//Event Calendar 2.0//EN
METHOD:PUBLISH
X-PUBLISHED-TTL:P3D
REFRESH-INTERVAL:P3D
CALSCALE:GREGORIAN
BEGIN:VEVENT
DTSTART:20240725T220000Z
DTEND:20240725T233000Z
X-MICROSOFT-CDO-ALLDAYEVENT:FALSE
SUMMARY:Pathway to Entrepreneurship Sponsored by Capital Area Workforce Development
DESCRIPTION:Capital Area Workforce Development Board is hosting information sessions to talk about our introduction to entrepreneurship program\, Pathway to Entrepreneurship (PTE)\, on Thursday\, July 25th from 6:00-7:30 pm. PTE is a federally funded program through Wake County Government that is FREE to all Wake County Residents\, or those that are doing business in Wake County. PTE is designed to help Women\, Minority Groups\, Veterans\, Individuals with Disabilities\, Justice-Involved Populations\, and Vulnerable Communities remove barriers to entry when starting a business through one-on-one work with a business professional who can help you get from ideation to the point of financial sustainability. We are excited to announce that Pathway to Entrepreneurship is now also offering our participants weekly office hours with a Raleigh-Based Marketing Firm\, and mini-grants to help offset the cost of starting a business. If you are interested in learning more about starting a business or are an existing business that is looking to reach financial sustainability\, please join our information session to learn more about the program and get started creating or improving your business! \n\n\n\nTo sign up for the information session please use this link: https://www.eventbrite.com/e/pathway-to-entrepreneurship-information-session-tickets-935845909307?aff=erelexpmlt\n\n \n\nIf you have any questions about the program or the information session please email Tyler Daniel\, Small Business Manager of Capital Area Workforce Development\, at pathway@wake.gov.
X-ALT-DESC;FMTTYPE=text/html:<span style="border:0px\;font:inherit\;padding:0px\;vertical-align:baseline\;"><span style="color:inherit\;">Capital Area Workforce Development Board is hosting information sessions to talk about our introduction to entrepreneurship program\, Pathway to Entrepreneurship (PTE)\, on&nbsp\;<strong>Thursday\, July 25<sup>th</sup>&nbsp\;from 6:00-7:30 pm</strong>. PTE is a federally funded program through Wake County Government that is&nbsp\;<strong>FREE</strong>&nbsp\;to all Wake County Residents\, or those that are doing business in Wake County. PTE is designed to help Women\, Minority Groups\, Veterans\, Individuals with Disabilities\, Justice-Involved Populations\, and Vulnerable Communities remove barriers to entry when starting a business through one-on-one work with a business professional who can help you get from ideation to the point of financial sustainability. We are excited to announce that Pathway to Entrepreneurship is now also offering our participants weekly office hours with a Raleigh-Based Marketing Firm\, and mini-grants to help offset the cost of starting a business. If you are interested in learning more about starting a business or are an existing business that is looking to reach financial sustainability\, please join our information session to learn more about the program and get started creating or improving your business!&nbsp\;<br />\n<br />\n<strong>To sign up for the information session please use this link:</strong>&nbsp\;</span></span><a data-auth="NotApplicable" data-linkindex="6" href="https://www.eventbrite.com/e/pathway-to-entrepreneurship-information-session-tickets-935845909307?aff=erelexpmlt" style="border:0px\;font:inherit\;padding:0px\;vertical-align:baseline\;color:rgb(5\, 99\, 193)\;"><span style="border:0px\;font:inherit\;padding:0px\;vertical-align:baseline\;"><span style="color:inherit\;">https://www.eventbrite.com/e/pathway-to-entrepreneurship-information-session-tickets-935845909307?aff=erelexpmlt</span></span></a><br />\n&nbsp\;<br />\n<span style="border:0px\;font:inherit\;padding:0px\;vertical-align:baseline\;"><span style="color:inherit\;">If you have any questions about the program or the information session please email Tyler Daniel\, Small Business Manager of Capital Area Workforce Development\, at&nbsp\;</span></span><a data-linkindex="7" href="mailto:pathway@wake.gov" style="border:0px\;font:inherit\;padding:0px\;vertical-align:baseline\;color:rgb(5\, 99\, 193)\;"><span style="border:0px\;font:inherit\;padding:0px\;vertical-align:baseline\;"><span style="color:inherit\;">pathway@wake.gov</span></span></a>.
LOCATION:
UID:e.1168.7920
SEQUENCE:3
DTSTAMP:20260421T155138Z
URL:https://business.zebulonchamber.org/events/details/pathway-to-entrepreneurship-sponsored-by-capital-area-workforce-development-7920
END:VEVENT

END:VCALENDAR
