BEGIN:VCALENDAR
VERSION:2.0
PRODID:-//ChamberMaster//Event Calendar 2.0//EN
METHOD:PUBLISH
X-PUBLISHED-TTL:P3D
REFRESH-INTERVAL:P3D
CALSCALE:GREGORIAN
BEGIN:VEVENT
DTSTART:20260121T140000Z
DTEND:20260121T150000Z
X-MICROSOFT-CDO-ALLDAYEVENT:FALSE
SUMMARY:Perk Up & Plug In: Morning Coffee & Networking with Caruso Homes
DESCRIPTION:Perk Up & Plug In: Zebulon Chamber's Morning Coffee & Networking\n\nWhy wait until the end of the day to make meaningful connections?\n\nPerk Up & Plug In offers a fresh twist on our monthly business after hours event. Join fellow professionals\, entrepreneurs\, and community changemakers for a morning of intentional connection\, local impact\, and energizing conversations   all before your inbox fills up.\n\n\n	\n	Sip on coffee and conversation in a gorgeous model home...that could be your next place to call home!.\n	\n	\n	Meet new faces and reconnect with familiar ones in the heart of your local business community.\n	\n	\n	Check-Out  the vision Caruso Homes has created at Sauls Landing...As they build  neighborhoods in Zebulon & Wendell. Bringing people & communities together! \n\n	 \n	\n\n\nThanks to our host! Caruso Homes\n\n\n\nWhether you're growing your network\, launching a new idea\, or just need that midweek lift   this event is the perfect place to be. No pressure\, no pitches   just good people\, good coffee\, and great energy to kick off your day.\n\n\n\nRegister using the link on this page.
X-ALT-DESC;FMTTYPE=text/html:<h3 data-end="289" data-start="219" style="font-weight: normal\; line-height: 1.2\; color: rgb(51\, 51\, 51)\; font-family: sans-serif\, Arial\, Verdana\, &quot\;Trebuchet MS&quot\;\;">&nbsp\;</h3>\n\n<h3 data-end="289" data-start="219" style="font-weight: normal\; line-height: 1.2\; color: rgb(51\, 51\, 51)\; font-family: sans-serif\, Arial\, Verdana\, &quot\;Trebuchet MS&quot\;\;"><span style="font-size: 16px\;"><span style="font-family: arial\;"><b>Perk Up &amp\; Plug In: Zebulon Chamber&#39\;s Morning Coffee &amp\; Networking</b></span></span></h3>\n\n<p data-end="356" data-start="291" style="color: rgb(51\, 51\, 51)\; font-family: sans-serif\, Arial\, Verdana\, &quot\;Trebuchet MS&quot\;\; font-size: 13px\;"><span style="font-size: 16px\;"><span style="font-family: arial\;">Why wait until the end of the day to make meaningful connections?</span></span></p>\n\n<p data-end="624" data-start="358" style="color: rgb(51\, 51\, 51)\; font-family: sans-serif\, Arial\, Verdana\, &quot\;Trebuchet MS&quot\;\; font-size: 13px\;"><span style="font-size: 16px\;"><span style="font-family: arial\;"><strong data-end="380" data-start="358">Perk Up &amp\; Plug In</strong>&nbsp\;offers a fresh twist on our&nbsp\;monthly&nbsp\;business after hours event. Join fellow professionals\, entrepreneurs\, and community changemakers for a&nbsp\;<strong data-end="590" data-start="509">morning of intentional connection\, local impact\, and energizing conversations</strong>&nbsp\;&mdash\; all before your inbox fills up.</span></span></p>\n\n<ul data-end="915" data-start="626" style="padding: 0px 40px\; color: rgb(51\, 51\, 51)\; font-family: sans-serif\, Arial\, Verdana\, &quot\;Trebuchet MS&quot\;\; font-size: 13px\;">\n	<li data-end="712" data-start="626">\n	<p data-end="712" data-start="628"><span style="font-size: 16px\;"><span style="font-family: arial\;"><strong data-end="662" data-start="628">Sip on coffee and conversation</strong>&nbsp\;in a gorgeous model home...that could be your next place to call home!.</span></span></p>\n	</li>\n	<li data-end="815" data-start="713">\n	<p data-end="815" data-start="715"><span style="font-size: 16px\;"><span style="font-family: arial\;"><strong data-end="747" data-start="715">Meet new faces and reconnect</strong>&nbsp\;with familiar ones in the heart of your local business community.</span></span></p>\n	</li>\n	<li data-end="915" data-start="816">\n	<p data-end="915" data-start="818"><span style="font-size: 16px\;"><span style="font-family: arial\;"><strong data-end="859" data-start="818">Check-Out&nbsp\; the vision Caruso Homes has created at Sauls Landing...As they build&nbsp\; neighborhoods in Zebulon &amp\; Wendell.</strong>&nbsp\;Bringing people &amp\; communities together!&nbsp\;</span></span><br />\n	&nbsp\;</p>\n	</li>\n</ul>\n\n<p data-end="1143" data-start="917" style="color: rgb(51\, 51\, 51)\; font-family: sans-serif\, Arial\, Verdana\, &quot\;Trebuchet MS&quot\;\; font-size: 13px\;"><span style="font-size: 16px\;"><span style="font-family: arial\;">Thanks to our host!&nbsp\;Caruso Homes<br />\n<br />\nWhether you&rsquo\;re growing your network\, launching a new idea\, or just need that midweek lift &mdash\; this event is the perfect place to be. No pressure\, no pitches &mdash\; just good people\, good coffee\, and great energy to kick off your day.<br />\n<br />\n<strong>Register</strong>&nbsp\;using the link on this page.</span></span></p>\n
LOCATION:Sauls Landing
UID:e.1168.9221
SEQUENCE:3
DTSTAMP:20260422T125447Z
URL:https://business.zebulonchamber.org/events/details/perk-up-plug-in-morning-coffee-networking-with-caruso-homes-9221
END:VEVENT

END:VCALENDAR
