BEGIN:VCALENDAR
VERSION:2.0
PRODID:-//ChamberMaster//Event Calendar 2.0//EN
METHOD:PUBLISH
X-PUBLISHED-TTL:P3D
REFRESH-INTERVAL:P3D
CALSCALE:GREGORIAN
BEGIN:VEVENT
DTSTART:20220901T150000Z
DTEND:20220901T160000Z
X-MICROSOFT-CDO-ALLDAYEVENT:FALSE
SUMMARY:Pinafore Boutique_Ribbon Cutting
DESCRIPTION:Welcome Pinafore Boutique to Downtown Zebulon!\n\nJoin Mayor Glenn York\, other dignitaries\, and local business and townspeople as we officially welcome Mandy and her team to town.
X-ALT-DESC;FMTTYPE=text/html:<span style="box-sizing: border-box\; border-width: 0px\; border-style: solid\; border-color: rgba(229\,231\,235\,var(--tw-border-opacity))\; border-image: initial\; --tw-border-opacity:1\; font-family: &quot\;Work Sans&quot\;\; --tw-shadow:0 0 transparent\; --tw-ring-inset:var(--tw-empty\, )\; --tw-ring-offset-width:0px\; --tw-ring-offset-color:#fff\; --tw-ring-color:rgba(59\,130\,246\,0.5)\; --tw-ring-offset-shadow:0 0 transparent\; --tw-ring-shadow:0 0 transparent\; font-weight: bolder\; margin-top: 0px\; margin-right: revert\; margin-bottom: revert\; margin-left: revert\; padding: revert\; list-style: revert\; color: rgb(66\, 66\, 66)\; font-size: 16px\;"><span style="font-size:14px\;"><span style="font-family:arial\;">Welcome Pinafore Boutique to Downtown Zebulon!<br />\nJoin Mayor Glenn York\, other dignitaries\, and local business and townspeople as we officially welcome Mandy and her team to town.</span></span></span>
LOCATION:126 N Arendell Ave Zebulon\, NC
UID:e.1168.6920
SEQUENCE:3
DTSTAMP:20260423T000229Z
URL:https://business.zebulonchamber.org/events/details/pinafore-boutique_ribbon-cutting-6920
END:VEVENT

END:VCALENDAR
