BEGIN:VCALENDAR
VERSION:2.0
PRODID:-//ChamberMaster//Event Calendar 2.0//EN
METHOD:PUBLISH
X-PUBLISHED-TTL:P3D
REFRESH-INTERVAL:P3D
CALSCALE:GREGORIAN
BEGIN:VEVENT
DTSTART:20200407T203000Z
DTEND:20200407T220000Z
X-MICROSOFT-CDO-ALLDAYEVENT:FALSE
SUMMARY:POSTPONED | Ribbon Cutting | Glenn Lewis
DESCRIPTION:Glenn Lewis Insurance Agency needed more space and chose to build a beautiful new building on the corner of West Glenn Street and Arendell Avenue.\n\n\n\nMany of you have watched the construction from the beginning. Come celebrate their new space at their Ribbon Cutting!\n\n\n\nWatch a video conversation between Chamber President Denise Nowell and and Glenn Lewis
X-ALT-DESC;FMTTYPE=text/html:Glenn Lewis Insurance Agency needed more space and chose to build a beautiful new building on the corner of West Glenn Street and Arendell Avenue.<br />\n<br />\nMany of you have watched the construction from the beginning. Come celebrate their new space at their Ribbon Cutting!<br />\n<br />\n<a href="http://www.facebook.com/watch/?ref=search&amp\;v=353187288646996&amp\;external_log_id=aa7a0df9-fa69-40d5-81f8-80305a60d352&amp\;q=glenn%20lewis%20insurance%20agency%20inc.">Watch a video conversation</a> between Chamber President Denise Nowell and&nbsp\;and Glenn Lewis
LOCATION:600 North Arendell Avenue Zebulon\, North Carolina
UID:e.1168.5945
SEQUENCE:3
DTSTAMP:20260424T163314Z
URL:https://business.zebulonchamber.org/events/details/postponed-ribbon-cutting-glenn-lewis-5945
END:VEVENT

END:VCALENDAR
