BEGIN:VCALENDAR
VERSION:2.0
PRODID:-//ChamberMaster//Event Calendar 2.0//EN
METHOD:PUBLISH
X-PUBLISHED-TTL:P3D
REFRESH-INTERVAL:P3D
CALSCALE:GREGORIAN
BEGIN:VEVENT
DTSTART;VALUE=DATE:20230302
DTEND;VALUE=DATE:20230303
TRANSP:TRANSPARENT
X-MICROSOFT-CDO-ALLDAYEVENT:TRUE
SUMMARY:Read Across America Day @ East Wake Academy
DESCRIPTION:Read Across America Day is Thursday\, March 2. Chamber members are invited to support this effort. If interested in participating as a reader\, please contact Allison Stancil of East Wake Academy @ astancil@eastwakeacademy.org
X-ALT-DESC;FMTTYPE=text/html:Read Across America Day is Thursday\, March 2. Chamber members are invited to support this effort. If interested in participating as a reader\, please contact Allison Stancil of East Wake Academy @&nbsp\;astancil@eastwakeacademy.org
LOCATION:
UID:e.1168.7549
SEQUENCE:3
DTSTAMP:20260422T140018Z
URL:https://business.zebulonchamber.org/events/details/read-across-america-day-east-wake-academy-7549
END:VEVENT

END:VCALENDAR
