BEGIN:VCALENDAR
VERSION:2.0
PRODID:-//ChamberMaster//Event Calendar 2.0//EN
METHOD:PUBLISH
X-PUBLISHED-TTL:P3D
REFRESH-INTERVAL:P3D
CALSCALE:GREGORIAN
BEGIN:VEVENT
DTSTART:20220809T150000Z
DTEND:20220809T154500Z
X-MICROSOFT-CDO-ALLDAYEVENT:FALSE
SUMMARY:Ribbon Cutting @ Armando's Pizza
DESCRIPTION:Celebrate the grand opening of the newest addition to Downtown Zebulon -- Armando's Pizza.
X-ALT-DESC;FMTTYPE=text/html:Celebrate the grand opening of the newest addition to Downtown Zebulon -- Armando&#39\;s Pizza.
LOCATION:103 N Arendell Ave\, Zebulon
UID:e.1168.6905
SEQUENCE:3
DTSTAMP:20260423T013325Z
URL:https://business.zebulonchamber.org/events/details/ribbon-cutting-armando-s-pizza-6905
END:VEVENT

END:VCALENDAR
