BEGIN:VCALENDAR
VERSION:2.0
PRODID:-//ChamberMaster//Event Calendar 2.0//EN
METHOD:PUBLISH
X-PUBLISHED-TTL:P3D
REFRESH-INTERVAL:P3D
CALSCALE:GREGORIAN
BEGIN:VEVENT
DTSTART:20230818T160000Z
DTEND:20230818T170000Z
X-MICROSOFT-CDO-ALLDAYEVENT:FALSE
SUMMARY:Ribbon Cutting & Grand Opening @ True Value Hardware
DESCRIPTION:True Value Hardware of Zebulon is open for business! The community is invited to join us in celebrating at our official Grand Opening & Ribbon Cutting with Mayor York and the Zebulon Chamber at noon on Friday\, August 18. The events will continue throughout the day and on to Saturday\, August 19.\n\n\n\nFriday: Join in the Ribbon Cutting at Noon\, Spin-to-Win\, Register for Door Prizes\, Donate $2 to Zebulon Boys & Girls Club & receive a free bucket for 20% off everything that can fit inside the True Value bucket.\n\n\n\nSaturday: Free Hotdogs 11 to 2\, Meet Muddy\, Spin-to-Win\, Register for Door Prizes\, Donate $2 to Zebulon Boys & Girls Club & receive a free bucket for 20% off everything that can fit inside the True Value bucket.
X-ALT-DESC;FMTTYPE=text/html:<span style="font-size:14px\;"><span style="font-family:arial\;"><span style="color: rgb(0\, 0\, 0)\;">True Value Hardware of Zebulon is open for business! The community is invited to join us in celebrating at our official Grand Opening &amp\; Ribbon Cutting with Mayor York and the Zebulon Chamber at noon on Friday\, August 18. The events will continue throughout the day and on to Saturday\, August 19.</span><br />\n<br />\nFriday: Join in the Ribbon Cutting at Noon\, Spin-to-Win\, Register for Door Prizes\, Donate $2 to Zebulon Boys &amp\; Girls Club &amp\; receive a free bucket for 20% off everything that can fit inside the True Value bucket.<br />\n<br />\nSaturday: Free Hotdogs 11 to 2\, Meet Muddy\,&nbsp\;Spin-to-Win\, Register for Door Prizes\, Donate $2 to Zebulon Boys &amp\; Girls Club &amp\; receive a free bucket for 20% off everything that can fit inside the True Value bucket.</span></span>
LOCATION:(In front of McLean's Ole Time Cafe)
UID:e.1168.7570
SEQUENCE:3
DTSTAMP:20260422T064924Z
URL:https://business.zebulonchamber.org/events/details/ribbon-cutting-grand-opening-true-value-hardware-7570
END:VEVENT

END:VCALENDAR
