BEGIN:VCALENDAR
VERSION:2.0
PRODID:-//ChamberMaster//Event Calendar 2.0//EN
METHOD:PUBLISH
X-PUBLISHED-TTL:P3D
REFRESH-INTERVAL:P3D
CALSCALE:GREGORIAN
BEGIN:VEVENT
DTSTART:20231024T160000Z
DTEND:20231024T170000Z
X-MICROSOFT-CDO-ALLDAYEVENT:FALSE
SUMMARY:Ribbon Cutting & One-Year Anniversary Celebration @ Root-Bound
DESCRIPTION:Join Us for the One-Year Anniversary and Ribbon Cutting!   \n\n\n\nYou're Invited join Mayor Glenn York\, the Zebulon Chamber\, and community members to the One-Year Anniversary Celebration and Ribbon Cutting of Root-Bound Plant Shop - Your Destination for Unique Indoor Greenery!\n\n\n\n Let's make this anniversary an unforgettable day! Bring your friends\, family\, and fellow plant lovers.\n\n\n\n  Date: Tuesday\, October 24\, 2023\n\n  Time: 12:00 PM\n\n\n\n  Location: Root-Bound Plant Shop\n\n  Address: 115 N Arendell Ave\, Zebulon\, NC\n\n\n\n  Live Music\n\n  Refreshments\n\n  Door Prizes\n\n   Raffle
X-ALT-DESC;FMTTYPE=text/html:&#127807\;&#127881\; Join Us for the One-Year Anniversary and Ribbon Cutting! &#127881\;&#127807\;<br />\n<br />\nYou&#39\;re Invited join Mayor Glenn York\, the Zebulon Chamber\, and community members to the One-Year Anniversary Celebration and Ribbon Cutting of<a href="https://business.zebulonchamber.org/list/member/root-bound-nc-llc-2231"> Root-Bound Plant Shop</a> - Your Destination for Unique Indoor Greenery!<br />\n<br />\n&nbsp\;Let&#39\;s make this anniversary an unforgettable day! Bring your friends\, family\, and fellow plant lovers.<br />\n<br />\n&#128197\; Date: Tuesday\, October 24\, 2023<br />\n&#128347\; Time: 12:00 PM<br />\n<br />\n&#128205\; Location: Root-Bound Plant Shop<br />\n&#127793\; Address: 115 N Arendell Ave\, Zebulon\, NC<br />\n<br />\n&#127926\; Live Music<br />\n&#127865\; Refreshments<br />\n&#127873\; Door Prizes<br />\n&#127903\;&#65039\; Raffle
LOCATION:
UID:e.1168.7658
SEQUENCE:3
DTSTAMP:20260422T035501Z
URL:https://business.zebulonchamber.org/events/details/ribbon-cutting-one-year-anniversary-celebration-root-bound-7658
END:VEVENT

END:VCALENDAR
