BEGIN:VCALENDAR
VERSION:2.0
PRODID:-//ChamberMaster//Event Calendar 2.0//EN
METHOD:PUBLISH
X-PUBLISHED-TTL:P3D
REFRESH-INTERVAL:P3D
CALSCALE:GREGORIAN
BEGIN:VEVENT
DTSTART:20220525T203000Z
DTEND:20220525T213000Z
X-MICROSOFT-CDO-ALLDAYEVENT:FALSE
SUMMARY:Ribbon Cutting_The Fall Line
DESCRIPTION:Welcome The Fall Line to Downtown Zebulon with Mayor York\, Mike\, and Cyrus at the official ribbon cutting. Wednesday\, May 25th at 4:30 PM. Bruno's Burger Bar will be onsite.
X-ALT-DESC;FMTTYPE=text/html:<div data-block="true" data-editor="d9raj" data-offset-key="7d2jj-0-0" style="margin: 0px\; padding: 0px\; color: rgb(36\, 31\, 33)\; font-family: &quot\;Source Sans Pro&quot\;\, &quot\;Helvetica Neue&quot\;\, Helvetica\, Arial\; font-size: 16px\; white-space: pre-wrap\;">\n<div class="public-DraftStyleDefault-block public-DraftStyleDefault-ltr" data-offset-key="7d2jj-0-0" style="margin: 0px\; padding: 0px\; position: relative\; direction: ltr\;"><span style="font-size: 16px\;"><span style="font-family: arial\;"><span data-offset-key="7d2jj-0-0" style="background-color: rgb(252\, 252\, 251)\;">Welcome The Fall Line</span><span data-offset-key="7d2jj-2-0" style=""><span style="background-color: rgb(252\, 252\, 251)\;"> to Downtown Zebulon</span></span><span data-offset-key="7d2jj-4-0" style="background-color: rgb(252\, 252\, 251)\;"> with Mayor York\, Mike\, and Cyrus at the official ribbon cutting. Wednesday\, May 25th at 4:30 PM. Bruno&#39\;s Burger Bar will be onsite.</span></span></span></div>\n\n<div style="background-color: rgb(252\, 252\, 251)\;">&nbsp\;</div>\n</div>\n\n<div data-block="true" data-editor="d9raj" data-offset-key="d3ph8-0-0" style="margin: 0px\; padding: 0px\; color: rgb(36\, 31\, 33)\; font-family: &quot\;Source Sans Pro&quot\;\, &quot\;Helvetica Neue&quot\;\, Helvetica\, Arial\; font-size: 16px\; white-space: pre-wrap\; background-color: rgb(252\, 252\, 251)\;">&nbsp\;</div>\n
LOCATION:114 N Arendell Ave
UID:e.1168.6898
SEQUENCE:3
DTSTAMP:20260420T162518Z
URL:https://business.zebulonchamber.org/events/details/ribbon-cutting_the-fall-line-6898
END:VEVENT

END:VCALENDAR
