BEGIN:VCALENDAR
VERSION:2.0
PRODID:-//ChamberMaster//Event Calendar 2.0//EN
METHOD:PUBLISH
X-PUBLISHED-TTL:P3D
REFRESH-INTERVAL:P3D
CALSCALE:GREGORIAN
BEGIN:VEVENT
DTSTART:20230207T190000Z
DTEND:20230207T194500Z
X-MICROSOFT-CDO-ALLDAYEVENT:FALSE
SUMMARY:Ribbon Cutting_Vibrant Nutrition
DESCRIPTION:Join Mayor York and the Zebulon Chamber in officially welcoming Jackie Bailey and family of Vibrant Nutrition to Zebulon.\n\n\n\nVibrant Nutrition is one of Zebulon's newest family-owned businesses. Serving the best protein shakes and energizing teas\n\n \n\n \n\nTuesday\, February 7\, 2023\n\n2:00 PM to 2:45 PM\n\n \n\nVibrant Nutrition\n\n156 Wakelon St.\n\nZebulon
X-ALT-DESC;FMTTYPE=text/html:<span style="font-size:16px\;"><span style="font-family:arial\;">Join Mayor York and the Zebulon Chamber in officially welcoming Jackie Bailey and family of Vibrant Nutrition to Zebulon.<br />\n<br />\nVibrant Nutrition is one of Zebulon&#39\;s newest family-owned businesses.&nbsp\;<span style="color: rgb(5\, 5\, 5)\; text-align: center\;">Serving the best protein shakes and energizing teas</span><br />\n&nbsp\;<br />\n&nbsp\;<br />\nTuesday\, February 7\, 2023<br />\n2:00 PM to 2:45 PM<br />\n&nbsp\;<br />\nVibrant Nutrition<br />\n156 Wakelon St.<br />\nZebulon</span></span>
LOCATION:
UID:e.1168.7548
SEQUENCE:3
DTSTAMP:20260422T154839Z
URL:https://business.zebulonchamber.org/events/details/ribbon-cutting_vibrant-nutrition-7548
END:VEVENT

END:VCALENDAR
