BEGIN:VCALENDAR
VERSION:2.0
PRODID:-//ChamberMaster//Event Calendar 2.0//EN
METHOD:PUBLISH
X-PUBLISHED-TTL:P3D
REFRESH-INTERVAL:P3D
CALSCALE:GREGORIAN
BEGIN:VEVENT
DTSTART:20230427T200000Z
DTEND:20230427T210000Z
X-MICROSOFT-CDO-ALLDAYEVENT:FALSE
SUMMARY:Ribbon Cutting_Zebulon's First Historic District
DESCRIPTION:Celebrate the official opening of Zebulon's first historic district.\n \n\nThursday\, April 27\n\n4:00 PM\n\n\n\nStrickland - Temple House (c. 1915)\n\n104 East Sycamore Street\n\nZebulon\n\n \n\nA reception will follow hosted by on the home's porch by current owners Taylor and Allison Gray.
X-ALT-DESC;FMTTYPE=text/html:<div><span style="font-size:16px\;"><span style="font-family:arial\;">Celebrate the official opening of Zebulon&#39\;s first historic district.</span></span></div>\n&nbsp\;\n\n<div style="text-align: center\;"><span style="font-size:16px\;"><span style="font-family:arial\;">Thursday\, April 27<br />\n4:00 PM<br />\n<br />\nStrickland - Temple House (c. 1915)<br />\n104 East Sycamore Street<br />\nZebulon</span></span><br />\n&nbsp\;</div>\n\n<div><span style="font-size:16px\;"><span style="font-family:arial\;">A reception will follow hosted by on the home&#39\;s porch by current owners&nbsp\;Taylor and Allison Gray.&nbsp\;</span></span></div>\n
LOCATION:
UID:e.1168.7553
SEQUENCE:3
DTSTAMP:20260422T135839Z
URL:https://business.zebulonchamber.org/events/details/ribbon-cutting_zebulon-s-first-historic-district-7553
END:VEVENT

END:VCALENDAR
