BEGIN:VCALENDAR
VERSION:2.0
PRODID:-//ChamberMaster//Event Calendar 2.0//EN
METHOD:PUBLISH
X-PUBLISHED-TTL:P3D
REFRESH-INTERVAL:P3D
CALSCALE:GREGORIAN
BEGIN:VEVENT
DTSTART:20220813T153000Z
DTEND:20220813T180000Z
X-MICROSOFT-CDO-ALLDAYEVENT:FALSE
SUMMARY:RJ's Italian Ice Pop-Up Hosted by Empowered Citizens
DESCRIPTION:Information about available resources for the community.
X-ALT-DESC;FMTTYPE=text/html:Information about available resources for the community.&nbsp\;
LOCATION:300-311 Primrose Place Zebulon
UID:e.1168.6908
SEQUENCE:3
DTSTAMP:20260420T205801Z
URL:https://business.zebulonchamber.org/events/details/rj-s-italian-ice-pop-up-hosted-by-empowered-citizens-6908
END:VEVENT

END:VCALENDAR
