BEGIN:VCALENDAR
VERSION:2.0
PRODID:-//ChamberMaster//Event Calendar 2.0//EN
METHOD:PUBLISH
X-PUBLISHED-TTL:P3D
REFRESH-INTERVAL:P3D
CALSCALE:GREGORIAN
BEGIN:VEVENT
DTSTART:20231013T220000Z
DTEND:20231014T010000Z
X-MICROSOFT-CDO-ALLDAYEVENT:FALSE
SUMMARY:Rock the Block Concert Series
DESCRIPTION:Rock the Block Concert Series 2023\n\nDates:\n\nFriday\, August 11 - Featuring The Main Event Band\n\nFriday\, September 8 - Featuring Rhythm Express Band\n\nFriday\, October 13 - Featuring Love Tribe\n\nTime: 6:00 PM - 9:00 PM\, Band will start at 6:30 PM\n\nCost: FREE\n\nLocation: West Horton Street\n\n\n\nSpend the evening listening to live music\, enjoying tasty food trucks\, visiting beer and wine vendors\, supporting local craft vendors\, and socializing with your neighbors Downtown Zebulon on West Horton Street. Make sure to bring your lawn chairs or picnic blankets. Band will begin playing at 6:30 PM.
X-ALT-DESC;FMTTYPE=text/html:<div>Rock the Block Concert Series 2023<br />\nDates:<br />\nFriday\, August 11 - Featuring The Main Event Band<br />\nFriday\, September 8 - Featuring Rhythm Express Band<br />\nFriday\, October 13 - Featuring Love Tribe<br />\nTime: 6:00 PM - 9:00 PM\, Band will start at 6:30 PM<br />\nCost: FREE<br />\nLocation: West Horton Street<br />\n<br />\nSpend the evening listening to live music\, enjoying tasty food trucks\, visiting beer and wine vendors\, supporting local craft vendors\, and socializing with your neighbors Downtown Zebulon on West Horton Street. Make sure to bring your lawn chairs or picnic blankets. Band will begin playing at 6:30 PM.</div>\n
LOCATION:West Horton Street
UID:e.1168.7579
SEQUENCE:3
DTSTAMP:20260422T035732Z
URL:https://business.zebulonchamber.org/events/details/rock-the-block-concert-series-10-13-2023-7579
END:VEVENT

END:VCALENDAR
