BEGIN:VCALENDAR
VERSION:2.0
PRODID:-//ChamberMaster//Event Calendar 2.0//EN
METHOD:PUBLISH
X-PUBLISHED-TTL:P3D
REFRESH-INTERVAL:P3D
CALSCALE:GREGORIAN
BEGIN:VEVENT
DTSTART:20230908T220000Z
DTEND:20230909T010000Z
X-MICROSOFT-CDO-ALLDAYEVENT:FALSE
SUMMARY:Rock the Block Concert Series
DESCRIPTION:Rock the Block Concert Series 2023\n\nDates:\n\nFriday\, August 11 - Featuring The Main Event Band\n\nFriday\, September 8 - Featuring Rhythm Express Band\n\nFriday\, October 13 - Featuring Love Tribe\n\nTime: 6:00 PM - 9:00 PM\, Band will start at 6:30 PM\n\nCost: FREE\n\nLocation: West Horton Street\n\n\n\nSpend the evening listening to live music\, enjoying tasty food trucks\, visiting beer and wine vendors\, supporting local craft vendors\, and socializing with your neighbors Downtown Zebulon on West Horton Street. Make sure to bring your lawn chairs or picnic blankets. Band will begin playing at 6:30 PM.
X-ALT-DESC;FMTTYPE=text/html:<p><span style="font-family:arial\; font-size:12px">Rock the Block Concert Series 2023</span><br />\n<span style="font-family:arial\; font-size:12px">Dates:</span><br />\n<span style="font-family:arial\; font-size:12px">Friday\, August 11 - Featuring The Main Event Band</span><br />\n<span style="font-family:arial\; font-size:12px">Friday\, September 8 - Featuring Rhythm Express Band</span><br />\n<span style="font-family:arial\; font-size:12px">Friday\, October 13 - Featuring Love Tribe</span><br />\n<span style="font-family:arial\; font-size:12px">Time: 6:00 PM - 9:00 PM\, Band will start at 6:30 PM</span><br />\n<span style="font-family:arial\; font-size:12px">Cost: FREE</span><br />\n<span style="font-family:arial\; font-size:12px">Location: West Horton Street</span><br />\n<br />\n<span style="font-family:arial\; font-size:12px">Spend the evening listening to live music\, enjoying tasty food trucks\, visiting beer and wine vendors\, supporting local craft vendors\, and socializing with your neighbors Downtown Zebulon on West Horton Street. Make sure to bring your lawn chairs or picnic blankets. Band will begin playing at 6:30 PM.</span></p>\n
LOCATION:West Horton Street
UID:e.1168.7578
SEQUENCE:3
DTSTAMP:20260421T152117Z
URL:https://business.zebulonchamber.org/events/details/rock-the-block-concert-series-7578
END:VEVENT

END:VCALENDAR
