BEGIN:VCALENDAR
VERSION:2.0
PRODID:-//ChamberMaster//Event Calendar 2.0//EN
METHOD:PUBLISH
X-PUBLISHED-TTL:P3D
REFRESH-INTERVAL:P3D
CALSCALE:GREGORIAN
BEGIN:VEVENT
DTSTART:20220414T160000Z
DTEND:20220414T170000Z
X-MICROSOFT-CDO-ALLDAYEVENT:FALSE
SUMMARY:Rotary Club of Zebulon
DESCRIPTION:Today\, the Rotary Club of Zebulon is privileged to conduct a special ceremony -- the induction of five (5) new members. Welcome new members! \n\n\n\nThe Rotary Club of Zebulon meets every Thursday from noon-1pm at the Rotary Building on Rotary Drive in Zebulon (405 W Sycamore St).  We have weekly speakers from the community\, and beyond\, to share news\, updates\, helpful information and ways we can be of service and value to others.  \n\n\n\nPlease contact Honey Wiggs for more information.  zebulonrotary@gmail.com
X-ALT-DESC;FMTTYPE=text/html:<p>Today\, the Rotary Club of Zebulon is privileged to conduct a special ceremony -- the induction of five (5) new members.&nbsp\;Welcome new members!&nbsp\;<br />\n<br />\nThe Rotary Club of Zebulon meets every Thursday from noon-1pm at the Rotary Building on Rotary Drive in Zebulon (405 W Sycamore St). &nbsp\;We have weekly speakers from the community\, and beyond\, to share news\, updates\, helpful information and ways we can be of service and value to others. &nbsp\;<br />\n<br />\nPlease contact Honey Wiggs for more information. &nbsp\;zebulonrotary@gmail.com</p>\n\n<p>&nbsp\;</p>\n
LOCATION:Rotary Building 405 W Sycamore St Zebulon\, NC
UID:e.1168.6495
SEQUENCE:3
DTSTAMP:20260420T151626Z
URL:https://business.zebulonchamber.org/events/details/rotary-club-of-zebulon-04-14-2022-6495
END:VEVENT

END:VCALENDAR
