BEGIN:VCALENDAR
VERSION:2.0
PRODID:-//ChamberMaster//Event Calendar 2.0//EN
METHOD:PUBLISH
X-PUBLISHED-TTL:P3D
REFRESH-INTERVAL:P3D
CALSCALE:GREGORIAN
BEGIN:VEVENT
DTSTART:20230601T160000Z
DTEND:20230601T170000Z
X-MICROSOFT-CDO-ALLDAYEVENT:FALSE
SUMMARY:Rotary Club of Zebulon
DESCRIPTION:The Rotary motto "Service Above Self" drives how we serve in our community\, nation and world.\n\n\n\nWe meet Thursdays at noon at the Rotary Building on Rotary Drive (405 W Sycamore St\, Zebulon\, NC 27597). Light snacks provided - bring your own lunch.\n\n\n\nContact Honey Wiggs for more information: (919) 250-8030
X-ALT-DESC;FMTTYPE=text/html:<div class="x11i5rnm xat24cr x1mh8g0r x1vvkbs xdj266r" style="margin: 0px\; overflow-wrap: break-word\; font-family: &quot\;Segoe UI Historic&quot\;\, &quot\;Segoe UI&quot\;\, Helvetica\, Arial\, sans-serif\; color: rgb(5\, 5\, 5)\; font-size: 15px\;">\n<div dir="auto" style="font-family: inherit\;">The Rotary motto &quot\;Service Above Self&quot\; drives how we serve in our community\, nation and world.</div>\n</div>\n\n<div class="x11i5rnm xat24cr x1mh8g0r x1vvkbs xtlvy1s" style="margin: 0.5em 0px 0px\; overflow-wrap: break-word\; font-family: &quot\;Segoe UI Historic&quot\;\, &quot\;Segoe UI&quot\;\, Helvetica\, Arial\, sans-serif\; color: rgb(5\, 5\, 5)\; font-size: 15px\;">\n<div dir="auto" style="font-family: inherit\;">We meet Thursdays at noon at the Rotary Building on&nbsp\;Rotary Drive (405 W Sycamore St\, Zebulon\, NC 27597). Light snacks provided - bring your own lunch.<br />\n<br />\nContact Honey Wiggs for more information: (919) 250-8030</div>\n</div>\n
LOCATION:
UID:e.1168.7234
SEQUENCE:3
DTSTAMP:20260422T093647Z
URL:https://business.zebulonchamber.org/events/details/rotary-club-of-zebulon-06-01-2023-7234
END:VEVENT

END:VCALENDAR
