BEGIN:VCALENDAR
VERSION:2.0
PRODID:-//ChamberMaster//Event Calendar 2.0//EN
METHOD:PUBLISH
X-PUBLISHED-TTL:P3D
REFRESH-INTERVAL:P3D
CALSCALE:GREGORIAN
BEGIN:VEVENT
DTSTART:20240509T160000Z
DTEND:20240509T170000Z
X-MICROSOFT-CDO-ALLDAYEVENT:FALSE
SUMMARY:Rotary Club of Zebulon
DESCRIPTION:
X-ALT-DESC;FMTTYPE=text/html:
LOCATION:
UID:e.1168.7878
SEQUENCE:3
DTSTAMP:20260421T184952Z
URL:https://business.zebulonchamber.org/events/details/rotary-club-of-zebulon-7878
END:VEVENT

END:VCALENDAR
