BEGIN:VCALENDAR
VERSION:2.0
PRODID:-//ChamberMaster//Event Calendar 2.0//EN
METHOD:PUBLISH
X-PUBLISHED-TTL:P3D
REFRESH-INTERVAL:P3D
CALSCALE:GREGORIAN
BEGIN:VEVENT
DTSTART:20240307T133000Z
DTEND:20240307T213000Z
X-MICROSOFT-CDO-ALLDAYEVENT:FALSE
SUMMARY:Skills for Life Train the Trainer
DESCRIPTION:Join WakeMed Health & Hospitals for a FREE Dialectical Behavioral Therapy (DBT-STEPS) training on March 7 & April 23\, 8:30 am - 4:30 pm at Marsh Creek Community Center\, Raleigh\, NC.\n\n \n\n  Who should attend? Community providers\, teachers\, youth leaders\, parents\, and anyone working with kids!\n\n \n\n  What is DBT Training? Equip yourself to teach vital skills to adolescents\, helping them manage stress and emotions effectively.\n\n \n\n  Presenter: Dr. Melanie McCabe\, PhD\, LP\, HSP\n\n \n\n  FREE training and manual\n\n  Learn to teach DBT-STEPS skills\n\n  Impact youth mental health positively\n\n \n\nLet's build a supportive community for our youth! #YouthMentalHealth #DBTTraining #CommunitySupport
X-ALT-DESC;FMTTYPE=text/html:<span style="color:#1C2B33\;"><span style="font-family:inherit\,serif\;"><span style="font-size:10.5pt\;">Join WakeMed Health &amp\; Hospitals</span> for a FREE Dialectical Behavioral Therapy (DBT-STEPS) training on March 7 &amp\; April 23\, 8:30 am - 4:30 pm at Marsh Creek Community Center\, Raleigh\, NC.</span></span><br />\n&nbsp\;<br />\n<span style="color:#1C2B33\;"><span style="font-family:segoe ui emoji\,sans-serif\;"><span style="font-size:10.5pt\;">&#128101\;</span></span></span><span style="color:#1C2B33\;"><span style="font-family:inherit\,serif\;"><span style="font-size:10.5pt\;"> Who should attend? Community providers\, teachers\, youth leaders\, parents\, and anyone working with kids!</span></span></span><br />\n&nbsp\;<br />\n<span style="color:#1C2B33\;"><span style="font-family:segoe ui emoji\,sans-serif\;"><span style="font-size:10.5pt\;">&#128640\;</span></span></span><span style="color:#1C2B33\;"><span style="font-family:inherit\,serif\;"><span style="font-size:10.5pt\;"> What is DBT Training? Equip yourself to teach vital skills to adolescents\, helping them manage stress and emotions effectively.</span></span></span><br />\n&nbsp\;<br />\n<span style="color:#1C2B33\;"><span style="font-family:segoe ui emoji\,sans-serif\;"><span style="font-size:10.5pt\;">&#127891\;</span></span></span><span style="color:#1C2B33\;"><span style="font-family:inherit\,serif\;"><span style="font-size:10.5pt\;"> Presenter: Dr. Melanie McCabe\, PhD\, LP\, HSP</span></span></span><br />\n&nbsp\;<br />\n<span style="color:#1C2B33\;"><span style="font-family:segoe ui emoji\,sans-serif\;"><span style="font-size:10.5pt\;">&#9989\;</span></span></span><span style="color:#1C2B33\;"><span style="font-family:inherit\,serif\;"><span style="font-size:10.5pt\;"> FREE training and manual</span></span></span><br />\n<span style="color:#1C2B33\;"><span style="font-family:segoe ui emoji\,sans-serif\;"><span style="font-size:10.5pt\;">&#9989\;</span></span></span><span style="color:#1C2B33\;"><span style="font-family:inherit\,serif\;"><span style="font-size:10.5pt\;"> Learn to teach DBT-STEPS skills</span></span></span><br />\n<span style="color:#1C2B33\;"><span style="font-family:segoe ui emoji\,sans-serif\;"><span style="font-size:10.5pt\;">&#9989\;</span></span></span><span style="color:#1C2B33\;"><span style="font-family:inherit\,serif\;"><span style="font-size:10.5pt\;"> Impact youth mental health positively</span></span></span><br />\n&nbsp\;<br />\n<span style="color:#1C2B33\;"><span style="font-family:inherit\,serif\;"><span style="font-size:10.5pt\;">Let&#39\;s build a supportive community for our youth! #YouthMentalHealth</span> #DBTTraining</span> #CommunitySupport</span>
LOCATION:Marsh Creek Community Center\, Raleigh\, NC.
UID:e.1168.7851
SEQUENCE:3
DTSTAMP:20260421T200250Z
URL:https://business.zebulonchamber.org/events/details/skills-for-life-train-the-trainer-7851
END:VEVENT

END:VCALENDAR
