BEGIN:VCALENDAR
VERSION:2.0
PRODID:-//ChamberMaster//Event Calendar 2.0//EN
METHOD:PUBLISH
X-PUBLISHED-TTL:P3D
REFRESH-INTERVAL:P3D
CALSCALE:GREGORIAN
BEGIN:VEVENT
DTSTART:20230524T120000Z
DTEND:20230524T141500Z
X-MICROSOFT-CDO-ALLDAYEVENT:FALSE
SUMMARY:Small Business Workshop: Financial Statements & Analysis for Small Businesses
DESCRIPTION:Increase your financial literacy to better manage your business!\n\n\n\nThis session will provide an overview of the main financial statements\, stressing the importance of accurate bookkeeping and discussing some of the information that can be learned from analyzing these statements.  The presenter will introduce participants to some of the key ratios and other measures that one uses in analysis and as key performance indicators as they manage their small businesses.  Some of these measures are also used by bankers and other lenders when making approval decisions on small business loans and lines of credit.\n\n\n\nGene Holland\, General Business Counselor with NC State's Small Business Technology and Development Center\, will lead the workshop\n\n\n\nIn support of our growing small business community\, Zebulon Chamber is privileged to produce Money\, Market\, & Management Small Business Series presented by Benchmark Community Bank.\n\n\n\nWednesday\, May 24\, 2023\n\n8:00 AM to 8:15 AM Networking\n\n8:15 AM to 10:15 AM Workshop\n\n\n\nFee covered for Chamber members in your annual Chamber membership investment & by Benchmark Community Bank's generous sponsorship\n\n$15 for non-Chamber members
X-ALT-DESC;FMTTYPE=text/html:<br />\nIncrease your financial literacy to better manage your business!<br />\n<br />\nThis session will provide an overview of the main financial statements\, stressing the importance of accurate bookkeeping and discussing some of the information that can be learned from analyzing these statements.&nbsp\; The presenter will introduce participants to some of the key ratios and other measures that one uses in analysis and as key performance indicators as they manage their small businesses.&nbsp\; Some of these measures are also used by bankers and other lenders when making approval decisions on small business loans and lines of credit.<br />\n<br />\n<strong>Gene Holland\, General Business Counselor with NC State&#39\;s Small Business Technology and Development Center\, will lead the workshop</strong><br />\n<br />\nIn support of our growing small business community\, Zebulon Chamber is privileged to produce Money\, Market\, &amp\; Management Small Business Series presented by <a href="https://www.bcbonline.com/home/home">Benchmark Community Bank</a>.<br />\n<br />\nWednesday\, May 24\, 2023<br />\n8:00 AM to 8:15 AM Networking<br />\n8:15 AM to 10:15 AM Workshop<br />\n<br />\nFee covered for Chamber members in your annual Chamber membership investment &amp\; by <a href="https://www.bcbonline.com/home/home">Benchmark Community Bank</a>&#39\;s generous sponsorship<br />\n$15 for non-Chamber members
LOCATION:
UID:e.1168.7277
SEQUENCE:3
DTSTAMP:20260422T110535Z
URL:https://business.zebulonchamber.org/events/details/small-business-workshop-financial-statements-analysis-for-small-businesses-7277
END:VEVENT

END:VCALENDAR
