BEGIN:VCALENDAR
VERSION:2.0
PRODID:-//ChamberMaster//Event Calendar 2.0//EN
METHOD:PUBLISH
X-PUBLISHED-TTL:P3D
REFRESH-INTERVAL:P3D
CALSCALE:GREGORIAN
BEGIN:VEVENT
DTSTART;VALUE=DATE:20240411
DTEND;VALUE=DATE:20240428
TRANSP:TRANSPARENT
X-MICROSOFT-CDO-ALLDAYEVENT:TRUE
SUMMARY:Spring Food Drive @ Zebulon United Methodist Church
DESCRIPTION:Spread the spirit of giving this spring with the Spring Food Drive sponsored by Zebulon United Methodist Church. Drop off your donations on Tuesday\, Wednesday\, or Thursday\, between 9:00 AM and 10:30 AM\, or during our Fish Fry Fundraiser. Let's come together to ensure that no one in our community goes hungry. Your support makes a difference!
X-ALT-DESC;FMTTYPE=text/html:<span style="font-size:16px\;"><span style="font-family:arial\;">Spread the spirit of giving this spring with the Spring Food Drive sponsored by Zebulon United Methodist Church. Drop off your donations on Tuesday\, Wednesday\, or Thursday\, between 9:00 AM and 10:30 AM\, or during our Fish Fry Fundraiser. Let&#39\;s come together to ensure that no one in our community goes hungry. Your support makes a difference!</span></span>
LOCATION:
UID:e.1168.7873
SEQUENCE:3
DTSTAMP:20260421T200707Z
URL:https://business.zebulonchamber.org/events/details/spring-food-drive-zebulon-united-methodist-church-7873
END:VEVENT

END:VCALENDAR
