BEGIN:VCALENDAR
VERSION:2.0
PRODID:-//ChamberMaster//Event Calendar 2.0//EN
METHOD:PUBLISH
X-PUBLISHED-TTL:P3D
REFRESH-INTERVAL:P3D
CALSCALE:GREGORIAN
BEGIN:VEVENT
DTSTART;VALUE=DATE:20241205
DTEND;VALUE=DATE:20241217
TRANSP:TRANSPARENT
X-MICROSOFT-CDO-ALLDAYEVENT:TRUE
SUMMARY:Spruce Pine\, Mitchell County\, NC\, Christmas Gift Drive
DESCRIPTION:Spruce Pine Christmas Gift Drive   \n\n\n\nLet's come together as a community to bring joy to our neighbors in Spruce Pine\, Mitchell County\, NC\, who have lost so much due to Hurricane Helene. This community toy and gift drive for children and teens\, co-sponsored by Narron CPA\, the Zebulon Chamber\, Hale Trailers\, and Taratino Trucking\, is your chance to make a meaningful difference this holiday season.\n\n\n\n  Shop Our Amazon Wishlist:\n\nOrder gifts directly from the Spruce Pine Christmas Gift Drive Wishlist. Items will be delivered to the Zebulon Chamber and transported to Mitchell County. Please ensure gifts arrive by Monday\, December 16th to be included in this special delivery.\n\n\n\nShipping Address:\n\nZebulon Chamber of Commerce\n\n815 N Arendell Ave\n\nZebulon\, NC 27597\n\n\n\n  Delivering Hope and Happiness:\n\nThanks to Hale Trailers and Taratino Trucking\, all donations will be transported to Mitchell County to help families rebuild and celebrate Christmas after a challenging year.\n\n\n\n  Together\, We Can Make a Difference!\n\nEvery gift you give brings smiles\, hope\, and holiday magic to children\, teens\, and families recovering from Hurricane Helene. Join your community in showing that the spirit of giving is alive and strong in Zebulon!\n\n\n\nThank you for being part of this heartfelt effort.
X-ALT-DESC;FMTTYPE=text/html:<span style="font-size:16px\;"><span style="font-family:comic sans ms\;">&#127876\;&#10024\; <strong>Spruce Pine Christmas Gift Drive</strong> &#10024\;&#127876\;<br />\n<br />\nLet&rsquo\;s come together as a community to bring joy to our neighbors in <strong>Spruce Pine\, Mitchell County\, NC\,</strong> who have lost so much due to <strong>Hurricane Helene</strong>. This <strong>community toy and gift drive for children and teens</strong>\, co-sponsored by <strong>Narron CPA</strong>\, the <strong>Zebulon Chamber</strong>\, <strong>Hale Trailers</strong>\, and <strong>Taratino Trucking</strong>\, is your chance to make a meaningful difference this holiday season.<br />\n<br />\n<strong>&#127873\;&nbsp\;</strong><strong>Shop Our Amazon Wishlist:</strong><br />\nOrder gifts directly from the <a href="https://www.amazon.com/hz/wishlist/ls/1WAV9U7ZXOUG0">Spruce Pine Christmas Gift Drive Wishlist</a>. Items will be delivered to the Zebulon Chamber and transported to Mitchell County. Please ensure gifts arrive by <strong>Monday\, December 16th</strong> to be included in this special delivery.<br />\n<br />\nShipping Address:<br />\nZebulon Chamber of Commerce<br />\n815 N Arendell Ave<br />\nZebulon\, NC 27597<br />\n<br />\n<strong>&#128667\; Delivering Hope and Happiness:</strong><br />\nThanks to <strong>Hale Trailers</strong> and <strong>Taratino Trucking</strong>\, all donations will be transported to Mitchell County to help families rebuild and celebrate Christmas after a challenging year.<br />\n<br />\n<strong>&#127877\; Together\, We Can Make a Difference!</strong><br />\nEvery gift you give brings smiles\, hope\, and holiday magic to children\, teens\, and families recovering from Hurricane Helene. Join your community in showing that the spirit of giving is alive and strong in Zebulon!<br />\n<br />\nThank you for being part of this heartfelt effort. &#128157\;</span></span><br />\n&nbsp\;
LOCATION:
UID:e.1168.8529
SEQUENCE:3
DTSTAMP:20260422T095626Z
URL:https://business.zebulonchamber.org/events/details/spruce-pine-mitchell-county-nc-christmas-gift-drive-8529
END:VEVENT

END:VCALENDAR
