BEGIN:VCALENDAR
VERSION:2.0
PRODID:-//ChamberMaster//Event Calendar 2.0//EN
METHOD:PUBLISH
X-PUBLISHED-TTL:P3D
REFRESH-INTERVAL:P3D
CALSCALE:GREGORIAN
BEGIN:VEVENT
DTSTART:20240109T230000Z
DTEND:20240110T010000Z
X-MICROSOFT-CDO-ALLDAYEVENT:FALSE
SUMMARY:Steel Magnolia Garden Club Meeting
DESCRIPTION:Our garden club meetings are held on the second Tuesday of each month at the Zebulon United Methodist Church fellowship hall.  Social time begins at 6:00pm and meetings start at 6:30pm.  Please come join us.  No gardening experience necessary :)
X-ALT-DESC;FMTTYPE=text/html:Our garden club meetings are held on the second Tuesday of each month at the Zebulon United Methodist Church fellowship hall.&nbsp\; Social time begins at 6:00pm and meetings start at 6:30pm.&nbsp\; Please come join us.&nbsp\; No gardening experience necessary :)
LOCATION:Zebulon United Methodist Church
UID:e.1168.7671
SEQUENCE:3
DTSTAMP:20260421T174105Z
URL:https://business.zebulonchamber.org/events/details/steel-magnolia-garden-club-meeting-7671
END:VEVENT

END:VCALENDAR
