BEGIN:VCALENDAR
VERSION:2.0
PRODID:-//ChamberMaster//Event Calendar 2.0//EN
METHOD:PUBLISH
X-PUBLISHED-TTL:P3D
REFRESH-INTERVAL:P3D
CALSCALE:GREGORIAN
BEGIN:VEVENT
DTSTART:20250114T230000Z
DTEND:20250115T013000Z
X-MICROSOFT-CDO-ALLDAYEVENT:FALSE
SUMMARY:Steel Magnolias Garden Club Meeting
DESCRIPTION:The Steel Magnolias Garden Club invites you to join us for our monthly club meeting that is held at the Zebulon United Methodist Church.  The meet and greet starts at 6:00 followed by a program before the 7:30 business meeting.  Contact us at steelmagnoliasclub@gmail.com.
X-ALT-DESC;FMTTYPE=text/html:The Steel Magnolias Garden Club invites you to join us for our monthly club meeting that is held at the Zebulon United Methodist Church.&nbsp\; The meet and greet starts at 6:00 followed by a program before the 7:30 business meeting.&nbsp\; Contact us at steelmagnoliasclub@gmail.com.
LOCATION:Zebulon United Methodist Church
UID:e.1168.8534
SEQUENCE:3
DTSTAMP:20260422T113210Z
URL:https://business.zebulonchamber.org/events/details/steel-magnolias-garden-club-meeting-8534
END:VEVENT

END:VCALENDAR
