BEGIN:VCALENDAR
VERSION:2.0
PRODID:-//ChamberMaster//Event Calendar 2.0//EN
METHOD:PUBLISH
X-PUBLISHED-TTL:P3D
REFRESH-INTERVAL:P3D
CALSCALE:GREGORIAN
BEGIN:VEVENT
DTSTART:20250212T163000Z
DTEND:20250212T183000Z
X-MICROSOFT-CDO-ALLDAYEVENT:FALSE
SUMMARY:Stop the Bleed: Learn Life-Saving Bleeding Control Techniques
DESCRIPTION:Stop the Bleed: Learn Life-Saving Bleeding Control Techniques  \n\n\n\nAccidents can happen anytime\, anywhere. Would you know how to respond?\n\n\n\nJoin us for FREE life-saving training led by medical professionals from WakeMed. You'll learn essential bleeding control techniques that could make the difference between life and death in an emergency.\n\n\n\n   Date: Wednesday\, February 12\, 2025\n\n  Time: 11:30 AM - 1:30 PM\n\n  Location: Universal Chevrolet\, 114 N Main St.\, Wendell\, NC\n\n  Bonus: FREE lunch provided!\n\n\n\nWhy Attend?\n\n  Hands-on training with experts\n\n  Learn quick\, effective techniques to control bleeding\n\n  Gain the confidence to act in critical situations\n\n\n\nDon't miss this chance to be prepared. Your knowledge could save a life.
X-ALT-DESC;FMTTYPE=text/html:<span style="font-size:16px\;"><span style="font-family:arial\;"><strong>&#128680\; Stop the Bleed: Learn Life-Saving Bleeding Control Techniques &#128680\;</strong><br />\n<br />\nAccidents can happen anytime\, anywhere. Would you know how to respond?<br />\n<br />\nJoin us for <strong>FREE life-saving training</strong> led by medical professionals from <strong>WakeMed</strong>. You&#39\;ll learn essential bleeding control techniques that could make the difference between life and death in an emergency.<br />\n<br />\n&#128467\;&#65039\; <strong>Date:</strong> Wednesday\, February 12\, 2025<br />\n&#9200\; <strong>Time:</strong> 11:30 AM - 1:30 PM<br />\n&#128205\; <strong>Location:</strong> Universal Chevrolet\, 114 N Main St.\, Wendell\, NC<br />\n&#127860\; <strong>Bonus:</strong> FREE lunch provided!<br />\n<br />\n<strong>Why Attend?</strong><br />\n&#9989\; Hands-on training with experts<br />\n&#9989\; Learn quick\, effective techniques to control bleeding<br />\n&#9989\; Gain the confidence to act in critical situations<br />\n<br />\n<strong>Don&rsquo\;t miss this chance to be prepared. Your knowledge could save a life.</strong></span></span><br />\n&nbsp\;
LOCATION:Universal Chevrolet
UID:e.1168.8682
SEQUENCE:3
DTSTAMP:20260422T125319Z
URL:https://business.zebulonchamber.org/events/details/stop-the-bleed-learn-life-saving-bleeding-control-techniques-8682
END:VEVENT

END:VCALENDAR
