BEGIN:VCALENDAR
VERSION:2.0
PRODID:-//ChamberMaster//Event Calendar 2.0//EN
METHOD:PUBLISH
X-PUBLISHED-TTL:P3D
REFRESH-INTERVAL:P3D
CALSCALE:GREGORIAN
BEGIN:VEVENT
DTSTART:20241207T130000Z
DTEND:20241208T000000Z
X-MICROSOFT-CDO-ALLDAYEVENT:FALSE
SUMMARY:Stylez For You's Business Pop Up Shops
DESCRIPTION:Join Us for a Local Business Pop-Up Event!  \n\n \n\nHosted by: Stylez For You LLC & Customized T-Shirts  \n\n \n\nWe are excited to invite local businesses to showcase their products at our store\, located at 877 E Gannon Ave.\, Suite 203\, Zebulon\, NC. For just a $50 vendor fee\, you can reserve a spot for any Saturday from 8 AM - 7 PM.\n\n \n\nVendor Details:\n\n- We will select 5 vendors each Saturday (on a first-come\, first-served basis).\n\n- Food vendors are not accepted at this time\, with the exception of items like cakes\, cupcakes\, or candy.\n\n- To secure your spot\, payment must be made in advance.\n\n- Each vendor may bring one 6ft table and chairs. Setup begins at 7 AM\, and no setup will be allowed after 8 AM.\n\n \n\nImportant Reminders:\n\n- Vendors are expected to stay for the entire event to avoid disrupting the space.\n\n- To maximize the event's success\, we ask that all participants share event details and flyers with their customers. We'll be doing the same!\n\n- As members of the Zebulon Chamber of Commerce\, we will also spread the word to local businesses.\n\n \n\nThis is a fantastic opportunity to support one another and grow together. Let's collaborate to make this a successful event for everyone involved!  \n\n \n\nThank you for your interest\, and we look forward to seeing your business shine!
X-ALT-DESC;FMTTYPE=text/html:<div>\n<div>\n<div><span style="font-size:14px\;"><span style="font-family:arial\;"><strong>Join Us for a Local Business Pop-Up Event!&nbsp\;&nbsp\;</strong></span></span></div>\n\n<div>&nbsp\;</div>\n\n<div><span style="font-size:14px\;"><span style="font-family:arial\;">Hosted by: Stylez For You LLC &amp\; Customized T-Shirts&nbsp\;&nbsp\;</span></span></div>\n\n<div>&nbsp\;</div>\n\n<div><span style="font-size:14px\;"><span style="font-family:arial\;">We are excited to invite local businesses to showcase their products at our store\, located at 877 E Gannon Ave.\, Suite 203\, Zebulon\, NC. For just a $50 vendor fee\, you can reserve a spot for any Saturday from 8 AM - 7 PM.</span></span></div>\n\n<div>&nbsp\;</div>\n\n<div><span style="font-size:14px\;"><span style="font-family:arial\;">Vendor Details:</span></span></div>\n\n<div><span style="font-size:14px\;"><span style="font-family:arial\;">- We will select 5 vendors each Saturday (on a first-come\, first-served basis).</span></span></div>\n\n<div><span style="font-size:14px\;"><span style="font-family:arial\;">- Food vendors are not accepted at this time\, with the exception of items like cakes\, cupcakes\, or candy.</span></span></div>\n\n<div><span style="font-size:14px\;"><span style="font-family:arial\;">- To secure your spot\, payment must be made in advance.</span></span></div>\n\n<div><span style="font-size:14px\;"><span style="font-family:arial\;">- Each vendor may bring one 6ft table and chairs. Setup begins at 7 AM\, and no setup will be allowed after 8 AM.</span></span></div>\n\n<div>&nbsp\;</div>\n\n<div><span style="font-size:14px\;"><span style="font-family:arial\;">Important Reminders:</span></span></div>\n\n<div><span style="font-size:14px\;"><span style="font-family:arial\;">- Vendors are expected to stay for the entire event to avoid disrupting the space.</span></span></div>\n\n<div><span style="font-size:14px\;"><span style="font-family:arial\;">- To maximize the event&rsquo\;s success\, we ask that all participants share event details and flyers with their customers. We&rsquo\;ll be doing the same!</span></span></div>\n\n<div><span style="font-size:14px\;"><span style="font-family:arial\;">- As members of the Zebulon Chamber of Commerce\, we will also spread the word to local businesses.</span></span></div>\n\n<div>&nbsp\;</div>\n\n<div><span style="font-size:14px\;"><span style="font-family:arial\;">This is a fantastic opportunity to support one another and grow together. Let&rsquo\;s collaborate to make this a successful event for everyone involved!&nbsp\;&nbsp\;</span></span></div>\n\n<div>&nbsp\;</div>\n\n<div><span style="font-size:14px\;"><span style="font-family:arial\;">Thank you for your interest\, and we look forward to seeing your business shine!</span></span></div>\n</div>\n</div>\n
LOCATION:877 E Gannon Ave. Zebulon\, NC Suite 203
UID:e.1168.8134
SEQUENCE:3
DTSTAMP:20260422T100410Z
URL:https://business.zebulonchamber.org/events/details/stylez-for-you-s-business-pop-up-shops-12-07-2024-8134
END:VEVENT

END:VCALENDAR
