BEGIN:VCALENDAR
VERSION:2.0
PRODID:-//ChamberMaster//Event Calendar 2.0//EN
METHOD:PUBLISH
X-PUBLISHED-TTL:P3D
REFRESH-INTERVAL:P3D
CALSCALE:GREGORIAN
BEGIN:VEVENT
DTSTART;VALUE=DATE:20231007
DTEND;VALUE=DATE:20231008
TRANSP:TRANSPARENT
X-MICROSOFT-CDO-ALLDAYEVENT:TRUE
SUMMARY:Talent Show
DESCRIPTION:Empowered Citizens is proud to partner with Zebulon Parks and Recreation to host a Community  Talent Show Fundraiser! Does your youth ages 11-18 have a hidden talent? Use the link or QR code on the flyer to register them for a chance to bring home the CASH PRIZE!!! All funds raised during the event will benefit the Parks and Recreation Youth Financial Aid Program and assist Empowered Citizens with teen assistance and programing.\n\nUse link to sign up: https://forms.gle/VdejbFcYb5rYGEnW9
X-ALT-DESC;FMTTYPE=text/html:<span style="color:rgb(5\, 5\, 5)\; font-family:segoe ui historic\,segoe ui\,helvetica\,arial\,sans-serif\; font-size:15px">Empowered Citizens is proud to partner with Zebulon Parks and Recreation&nbsp\;</span><span style="color:rgb(5\, 5\, 5)\; font-family:segoe ui historic\,segoe ui\,helvetica\,arial\,sans-serif\; font-size:15px">to host a Community&nbsp\; Talent Show Fundraiser! Does your youth ages 11-18 have a hidden talent? Use the link or QR code on the flyer to register them for a chance to bring home the CASH PRIZE!!! All funds raised during the event will benefit the Parks and Recreation Youth Financial Aid Program and assist Empowered Citizens with teen assistance and programing.<br />\n<strong>Use link to sign up</strong>:&nbsp\;</span><a href="https://forms.gle/VdejbFcYb5rYGEnW9">https://forms.gle/VdejbFcYb5rYGEnW9</a><br />\n&nbsp\;
LOCATION:Zebulon Community Center 301 S Arendell Ave\, Zebulon NC 27597
UID:e.1168.7651
SEQUENCE:3
DTSTAMP:20260422T035215Z
URL:https://business.zebulonchamber.org/events/details/talent-show-7651
END:VEVENT

END:VCALENDAR
