BEGIN:VCALENDAR
VERSION:2.0
PRODID:-//ChamberMaster//Event Calendar 2.0//EN
METHOD:PUBLISH
X-PUBLISHED-TTL:P3D
REFRESH-INTERVAL:P3D
CALSCALE:GREGORIAN
BEGIN:VEVENT
DTSTART:20251129T150000Z
DTEND:20251129T190000Z
X-MICROSOFT-CDO-ALLDAYEVENT:FALSE
SUMMARY:The Children’s Merry Market — Small Business Saturday
DESCRIPTION:The Children's Merry Market   Small Business Saturday\n\n  Date: Saturday\, November 29\, 2025\n\n  Time: 10:00 AM   2:00 PM\n\n  Location: The Creative Cup Alley\, Downtown Zebulon\n\nCelebrate Small Business Saturday in the most joyful way   by supporting our youngest entrepreneurs!\n\nJoin us for The Children's Merry Market\, a festive pop-up marketplace hosted by The Creative Cup and proudly supported by the Zebulon Chamber of Commerce as we champion our next generation of business owners.\n\nThis special holiday market will feature kid-run businesses offering:\n\n  Crafts & Handmade Gifts\n\n  Jewelry\n\n  Apparel\n\n  Lemonade\n\n  Cake Pops\n\n & so much more!\n\nBring the family\, enjoy the holiday atmosphere\, and make a meaningful impact by shopping small and encouraging big dreams.\n\nCome shop\, celebrate\, and support the future of entrepreneurship right here in Zebulon!
X-ALT-DESC;FMTTYPE=text/html:<p><span style="font-size:18px\;"><span style="font-family:arial\;"><strong>The Children&rsquo\;s Merry Market &mdash\; Small Business Saturday</strong></span></span></p>\n\n<p><span style="font-size:16px\;"><span style="font-family:arial\;"><strong>&#128197\; Date:</strong> Saturday\, November 29\, 2025<br />\n<strong>&#9200\; Time:</strong> 10:00 AM &ndash\; 2:00 PM<br />\n<strong>&#128205\; Location:</strong> The Creative Cup Alley\, Downtown Zebulon</span></span></p>\n\n<p><span style="font-size:16px\;"><span style="font-family:arial\;">Celebrate <em>Small Business Saturday</em> in the most joyful way &mdash\; by supporting our youngest entrepreneurs!</span></span></p>\n\n<p><span style="font-size:16px\;"><span style="font-family:arial\;">Join us for <strong>The Children&rsquo\;s Merry Market</strong>\, a festive pop-up marketplace hosted by <strong>The Creative Cup</strong> and proudly supported by the <strong>Zebulon Chamber of Commerce</strong> as we champion our next generation of business owners.</span></span></p>\n\n<p><span style="font-size:16px\;"><span style="font-family:arial\;">This special holiday market will feature kid-run businesses offering:</span></span></p>\n\n<p><span style="font-size:16px\;"><span style="font-family:arial\;">&#127873\; Crafts &amp\; Handmade Gifts<br />\n&#128142\; Jewelry<br />\n&#128090\; Apparel<br />\n&#127819\; Lemonade<br />\n&#127856\; Cake Pops<br />\n&hellip\;&amp\; so much more!</span></span></p>\n\n<p><span style="font-size:16px\;"><span style="font-family:arial\;">Bring the family\, enjoy the holiday atmosphere\, and make a meaningful impact by shopping small and encouraging big dreams.</span></span></p>\n\n<p><span style="font-size:16px\;"><span style="font-family:arial\;"><strong>Come shop\, celebrate\, and support the future of entrepreneurship right here in Zebulon!</strong></span></span></p>\n
LOCATION:
UID:e.1168.9214
SEQUENCE:3
DTSTAMP:20260422T155230Z
URL:https://business.zebulonchamber.org/events/details/the-children-s-merry-market-small-business-saturday-9214
END:VEVENT

END:VCALENDAR
