BEGIN:VCALENDAR
VERSION:2.0
PRODID:-//ChamberMaster//Event Calendar 2.0//EN
METHOD:PUBLISH
X-PUBLISHED-TTL:P3D
REFRESH-INTERVAL:P3D
CALSCALE:GREGORIAN
BEGIN:VEVENT
DTSTART:20241208T190000Z
DTEND:20241208T210000Z
X-MICROSOFT-CDO-ALLDAYEVENT:FALSE
SUMMARY:Town of Zebulon Christmas Parade
DESCRIPTION:The Town of Zebulon Christmas Parade  \n\nJoin us in welcoming the holiday season at the The Town of Zebulon Christmas Parade! This festive event is set to bring our community together for a joyful afternoon in Downtown Zebulon on Sunday\, December 8 at 2:00 PM.\n\nThis event promises to bring our community together as we watch floats\, school groups\, balloons\, and performances stroll through Downtown Zebulon and celebrate what makes our Town so special. Whether as a volunteer\, participant\, or viewer cheering the parade on\, everyone can play a role in making the Christmas parade a huge success. We can't wait to see you there!\n\n\nOpportunities to Participate:\n\nParade Participants: Register your school group\, organization\, club\, or business to showcase your Zebulon pride!\n\nVolunteer Roles: Help us create an unforgettable parade experience by lending a hand. From organizing participants to parade-day logistics\, there's a volunteer role for everyone!\n\nFor details\, registration forms\, and volunteer opportunities\, please copy and paste the links below\n\nParticipant Registration:\n\nhttps://zebulon.recdesk.com/Community/Program/Detail?programId=1347\n\n\n\nVolunteer Registration:\n\nhttps://www.signupgenius.com/go/10C0D4AAAA62EA1F9C61-52339404-zebulon#/
X-ALT-DESC;FMTTYPE=text/html:<p dir="ltr" style="line-height:1.38\;margin-top:12pt\;margin-bottom:12pt\;"><span id="docs-internal-guid-e3c64b47-7fff-1f7a-606d-2e8869f4e71f"><span style="font-size: 11pt\; font-family: Arial\, sans-serif\; color: rgb(0\, 0\, 0)\; background-color: transparent\; font-variant-numeric: normal\; font-variant-east-asian: normal\; font-variant-alternates: normal\; font-variant-position: normal\; vertical-align: baseline\; white-space-collapse: preserve\;">&#127876\; <strong>The Town of</strong></span><span style="font-size: 11pt\; font-family: Arial\, sans-serif\; color: rgb(0\, 0\, 0)\; background-color: transparent\; font-weight: 700\; font-variant-numeric: normal\; font-variant-east-asian: normal\; font-variant-alternates: normal\; font-variant-position: normal\; vertical-align: baseline\; white-space-collapse: preserve\;"> Zebulon Christmas Parade</span><span style="font-size: 11pt\; font-family: Arial\, sans-serif\; color: rgb(0\, 0\, 0)\; background-color: transparent\; font-variant-numeric: normal\; font-variant-east-asian: normal\; font-variant-alternates: normal\; font-variant-position: normal\; vertical-align: baseline\; white-space-collapse: preserve\;"> &#127876\;</span></span></p>\n\n<p dir="ltr" style="line-height:1.38\;margin-top:12pt\;margin-bottom:12pt\;"><span id="docs-internal-guid-e3c64b47-7fff-1f7a-606d-2e8869f4e71f"><span style="font-size: 11pt\; font-family: Arial\, sans-serif\; color: rgb(0\, 0\, 0)\; background-color: transparent\; font-variant-numeric: normal\; font-variant-east-asian: normal\; font-variant-alternates: normal\; font-variant-position: normal\; vertical-align: baseline\; white-space-collapse: preserve\;">Join us in welcoming the holiday season at the <strong>The Town of </strong></span><span style="font-size: 11pt\; font-family: Arial\, sans-serif\; color: rgb(0\, 0\, 0)\; background-color: transparent\; font-weight: 700\; font-variant-numeric: normal\; font-variant-east-asian: normal\; font-variant-alternates: normal\; font-variant-position: normal\; vertical-align: baseline\; white-space-collapse: preserve\;">Zebulon Christmas Parade!</span><span style="font-size: 11pt\; font-family: Arial\, sans-serif\; color: rgb(0\, 0\, 0)\; background-color: transparent\; font-variant-numeric: normal\; font-variant-east-asian: normal\; font-variant-alternates: normal\; font-variant-position: normal\; vertical-align: baseline\; white-space-collapse: preserve\;"> This festive event is set to bring our community together for a joyful afternoon in Downtown Zebulon on </span><span style="font-size: 11pt\; font-family: Arial\, sans-serif\; color: rgb(0\, 0\, 0)\; background-color: transparent\; font-weight: 700\; font-variant-numeric: normal\; font-variant-east-asian: normal\; font-variant-alternates: normal\; font-variant-position: normal\; vertical-align: baseline\; white-space-collapse: preserve\;">Sunday\, December 8 at 2:00 PM</span><span style="font-size: 11pt\; font-family: Arial\, sans-serif\; color: rgb(0\, 0\, 0)\; background-color: transparent\; font-variant-numeric: normal\; font-variant-east-asian: normal\; font-variant-alternates: normal\; font-variant-position: normal\; vertical-align: baseline\; white-space-collapse: preserve\;">.</span></span></p>\n\n<p style="box-sizing: border-box\; margin: 0px 0px 10px\; color: rgb(68\, 68\, 68)\; font-family: &quot\;Open Sans&quot\;\, Arial\, sans-serif\; font-size: 16px\;">This event promises to bring our community together as we watch floats\, school groups\, balloons\, and performances stroll through Downtown Zebulon and celebrate what makes our Town so special. Whether as a volunteer\, participant\, or viewer cheering the parade on\, everyone can play a role in making the Christmas parade a huge success. We can&#39\;t wait to see you there!</p>\n\n<div>\n<p dir="ltr" style="line-height:1.38\;margin-top:12pt\;margin-bottom:12pt\;"><span id="docs-internal-guid-7e049188-7fff-f69e-f93c-b835b0a5c016"><span style="font-size: 11pt\; font-family: Arial\, sans-serif\; color: rgb(0\, 0\, 0)\; background-color: transparent\; font-weight: 700\; font-variant-numeric: normal\; font-variant-east-asian: normal\; font-variant-alternates: normal\; font-variant-position: normal\; vertical-align: baseline\; white-space-collapse: preserve\;">Opportunities to Participate:</span></span></p>\n\n<p dir="ltr" role="presentation" style="list-style-type: disc\; font-size: 11pt\; font-family: Arial\, sans-serif\; color: rgb(0\, 0\, 0)\; background-color: transparent\; font-variant-numeric: normal\; font-variant-east-asian: normal\; font-variant-alternates: normal\; font-variant-position: normal\; vertical-align: baseline\; white-space: pre\;line-height:1.38\;margin-top:12pt\;margin-bottom:0pt\;"><span id="docs-internal-guid-7e049188-7fff-f69e-f93c-b835b0a5c016"><span style="font-size: 11pt\; background-color: transparent\; font-weight: 700\; font-variant-numeric: normal\; font-variant-east-asian: normal\; font-variant-alternates: normal\; font-variant-position: normal\; vertical-align: baseline\; text-wrap-mode: wrap\;">Parade Participants:</span><span style="font-size: 11pt\; background-color: transparent\; font-variant-numeric: normal\; font-variant-east-asian: normal\; font-variant-alternates: normal\; font-variant-position: normal\; vertical-align: baseline\; text-wrap-mode: wrap\;"> Register your school group\, organization\, club\, or business to showcase your Zebulon pride!</span></span></p>\n\n<p dir="ltr" role="presentation" style="list-style-type: disc\; font-size: 11pt\; font-family: Arial\, sans-serif\; color: rgb(0\, 0\, 0)\; background-color: transparent\; font-variant-numeric: normal\; font-variant-east-asian: normal\; font-variant-alternates: normal\; font-variant-position: normal\; vertical-align: baseline\; white-space: pre\;line-height:1.38\;margin-top:0pt\;margin-bottom:12pt\;"><span id="docs-internal-guid-7e049188-7fff-f69e-f93c-b835b0a5c016"><span style="font-size: 11pt\; background-color: transparent\; font-weight: 700\; font-variant-numeric: normal\; font-variant-east-asian: normal\; font-variant-alternates: normal\; font-variant-position: normal\; vertical-align: baseline\; text-wrap-mode: wrap\;">Volunteer Roles:</span><span style="font-size: 11pt\; background-color: transparent\; font-variant-numeric: normal\; font-variant-east-asian: normal\; font-variant-alternates: normal\; font-variant-position: normal\; vertical-align: baseline\; text-wrap-mode: wrap\;"> Help us create an unforgettable parade experience by lending a hand. From organizing participants to parade-day logistics\, there&rsquo\;s a volunteer role for everyone!</span></span></p>\n\n<p dir="ltr" style="line-height:1.38\;margin-top:12pt\;margin-bottom:12pt\;"><span id="docs-internal-guid-7e049188-7fff-f69e-f93c-b835b0a5c016"><span style="font-size: 11pt\; font-family: Arial\, sans-serif\; color: rgb(0\, 0\, 0)\; background-color: transparent\; font-variant-numeric: normal\; font-variant-east-asian: normal\; font-variant-alternates: normal\; font-variant-position: normal\; vertical-align: baseline\; white-space-collapse: preserve\;">For details\, registration forms\, and volunteer opportunities\, please copy and paste the links below</span></span><br />\n<span id="docs-internal-guid-4cf9b4a5-7fff-0661-6f4b-f5163ea46c8a"><span style="font-size: 11pt\; font-family: Arial\, sans-serif\; color: rgb(0\, 0\, 0)\; background-color: transparent\; font-variant-numeric: normal\; font-variant-east-asian: normal\; font-variant-alternates: normal\; font-variant-position: normal\; vertical-align: baseline\; white-space-collapse: preserve\;">Participant Registration:<br />\n<a href="https://zebulon.recdesk.com/Community/Program/Detail?programId=1347">https://zebulon.recdesk.com/Community/Program/Detail?programId=1347</a></span></span></p>\n\n<p dir="ltr" style="line-height: 1.38\; margin-top: 0pt\; margin-bottom: 0pt\;"><br />\n<span id="docs-internal-guid-4cf9b4a5-7fff-0661-6f4b-f5163ea46c8a"><span style="font-size: 11pt\; font-family: Arial\, sans-serif\; color: rgb(0\, 0\, 0)\; background-color: transparent\; font-variant-numeric: normal\; font-variant-east-asian: normal\; font-variant-alternates: normal\; font-variant-position: normal\; vertical-align: baseline\; white-space-collapse: preserve\;">Volunteer Registration:<br />\n<a href="https://www.signupgenius.com/go/10C0D4AAAA62EA1F9C61-52339404-zebulon#/">https://www.signupgenius.com/go/10C0D4AAAA62EA1F9C61-52339404-zebulon#/</a></span></span></p>\n\n<div>&nbsp\;</div>\n</div>\n
LOCATION:Location: Downtown Zebulon
UID:e.1168.8514
SEQUENCE:3
DTSTAMP:20260424T095104Z
URL:https://business.zebulonchamber.org/events/details/town-of-zebulon-christmas-parade-8514
END:VEVENT

END:VCALENDAR
